BEGIN:VCALENDAR
VERSION:2.0
PRODID:-//Verein(t) für Wittichenau e.V. - ECPv6.15.20//NONSGML v1.0//EN
CALSCALE:GREGORIAN
METHOD:PUBLISH
X-ORIGINAL-URL:https://jakubetzstift.de
X-WR-CALDESC:Veranstaltungen für Verein(t) für Wittichenau e.V.
REFRESH-INTERVAL;VALUE=DURATION:PT1H
X-Robots-Tag:noindex
X-PUBLISHED-TTL:PT1H
BEGIN:VTIMEZONE
TZID:Europe/Berlin
BEGIN:DAYLIGHT
TZOFFSETFROM:+0100
TZOFFSETTO:+0200
TZNAME:CEST
DTSTART:20250330T010000
END:DAYLIGHT
BEGIN:STANDARD
TZOFFSETFROM:+0200
TZOFFSETTO:+0100
TZNAME:CET
DTSTART:20251026T010000
END:STANDARD
BEGIN:DAYLIGHT
TZOFFSETFROM:+0100
TZOFFSETTO:+0200
TZNAME:CEST
DTSTART:20260329T010000
END:DAYLIGHT
BEGIN:STANDARD
TZOFFSETFROM:+0200
TZOFFSETTO:+0100
TZNAME:CET
DTSTART:20261025T010000
END:STANDARD
BEGIN:DAYLIGHT
TZOFFSETFROM:+0100
TZOFFSETTO:+0200
TZNAME:CEST
DTSTART:20270328T010000
END:DAYLIGHT
BEGIN:STANDARD
TZOFFSETFROM:+0200
TZOFFSETTO:+0100
TZNAME:CET
DTSTART:20271031T010000
END:STANDARD
END:VTIMEZONE
BEGIN:VEVENT
DTSTART;TZID=Europe/Berlin:20260108T170000
DTEND;TZID=Europe/Berlin:20260108T190000
DTSTAMP:20260423T102253
CREATED:20250612T114520Z
LAST-MODIFIED:20260327T221118Z
UID:10001902-1767891600-1767898800@jakubetzstift.de
SUMMARY:Bürosprechzeit im Jakubetzstift
DESCRIPTION:Wir sind für euch da: Alle 14 Tage donnerstags (gerade Kalenderwochen)\, 17:00–19:00 Uhr. \nWährend der Bürosprechzeit könnt ihr: \n\nFragen rund um Veranstaltungen und Hausnutzung klären\nRaumbuchungen und Busanmietungen anfragen\neuch für Veranstaltungen anmelden\nFragen und Anregungen loswerden\nIdeen einbringen oder ehrenamtliches Engagement besprechen\n\nKommt einfach vorbei – eine Anmeldung ist nicht erforderlich.
URL:https://jakubetzstift.de/veranstaltung/buerosprechzeit-im-jakubetzstift/2026-01-08/
LOCATION:Jakubetzstift\, Bautzener Straße 30\, Wittichenau\, Sachsen\, 02997\, Deutschland
CATEGORIES:Bürosprechzeiten
END:VEVENT
END:VCALENDAR