BEGIN:VCALENDAR
VERSION:2.0
PRODID:-//Verein(t) für Wittichenau e.V. - ECPv6.15.20//NONSGML v1.0//EN
CALSCALE:GREGORIAN
METHOD:PUBLISH
X-ORIGINAL-URL:https://jakubetzstift.de
X-WR-CALDESC:Veranstaltungen für Verein(t) für Wittichenau e.V.
REFRESH-INTERVAL;VALUE=DURATION:PT1H
X-Robots-Tag:noindex
X-PUBLISHED-TTL:PT1H
BEGIN:VTIMEZONE
TZID:Europe/Berlin
BEGIN:DAYLIGHT
TZOFFSETFROM:+0100
TZOFFSETTO:+0200
TZNAME:CEST
DTSTART:20250330T010000
END:DAYLIGHT
BEGIN:STANDARD
TZOFFSETFROM:+0200
TZOFFSETTO:+0100
TZNAME:CET
DTSTART:20251026T010000
END:STANDARD
BEGIN:DAYLIGHT
TZOFFSETFROM:+0100
TZOFFSETTO:+0200
TZNAME:CEST
DTSTART:20260329T010000
END:DAYLIGHT
BEGIN:STANDARD
TZOFFSETFROM:+0200
TZOFFSETTO:+0100
TZNAME:CET
DTSTART:20261025T010000
END:STANDARD
BEGIN:DAYLIGHT
TZOFFSETFROM:+0100
TZOFFSETTO:+0200
TZNAME:CEST
DTSTART:20270328T010000
END:DAYLIGHT
BEGIN:STANDARD
TZOFFSETFROM:+0200
TZOFFSETTO:+0100
TZNAME:CET
DTSTART:20271031T010000
END:STANDARD
END:VTIMEZONE
BEGIN:VEVENT
DTSTART;TZID=Europe/Berlin:20260122T093000
DTEND;TZID=Europe/Berlin:20260122T110000
DTSTAMP:20260423T102253
CREATED:20260113T144809Z
LAST-MODIFIED:20260401T192018Z
UID:10002541-1769074200-1769079600@jakubetzstift.de
SUMMARY:Krabbelgruppe (0-3 Jahre)
DESCRIPTION:Gemeinsam Spielen\, sich austauschen\, eine Tasse Tee oder Kaffee trinken. Für Mamas\, Papas und Großeltern mit Kindern zwischen 0-3 Jahre. Wer möchte\, kann gerne auch Fingerspiele und Verse einbringen oder gemeinsam Lieder singen. Angeleitet und Begleitet wird die Gruppe von Barbara Beckel. Wir starten immer mit einem kleinen Lied\, einer Bewegungsgeschichte oder einem Fingerspiel. Danach ist Zeit für Austausch und gemeinsames Spiel. \n  \nDie Babys und Kinder können natürlich auch schlafen. Dann kann die Zeit auch einfach zum Austausch genutzt werden. \n  \nJeden Donnerstag von 9-11 Uhr. Einfach vorbei kommen!\nMan kann während der gesamten Zeit kommen und gehen. Es ist ein offener Treff. \nFür Kaffee\, Tee und Betriebskosten steht eine Spendenbox bereit – wir freuen uns über einen kleinen Beitrag.
URL:https://jakubetzstift.de/veranstaltung/krabbelgruppe-0-3-jahre-4/2026-01-22/
LOCATION:Jakubetzstift\, Bautzener Straße 30\, Wittichenau\, Sachsen\, 02997\, Deutschland
ATTACH;FMTTYPE=image/jpeg:https://jakubetzstift.de/wp-content/uploads/Krabbelgruppe-Plakat-Titelbild-e1744032356793.jpg
END:VEVENT
BEGIN:VEVENT
DTSTART;TZID=Europe/Berlin:20260122T140000
DTEND;TZID=Europe/Berlin:20260122T163000
DTSTAMP:20260423T102253
CREATED:20251216T054841Z
LAST-MODIFIED:20251218T064032Z
UID:10002200-1769090400-1769099400@jakubetzstift.de
SUMMARY:Seniorennachmittag
DESCRIPTION:Wir laden jeden vierten Donnerstag im Monat zum Seniorennachmittag ein. Es gibt Kaffee und Gebäck und jeweils einen kleinen Programmpunkt. \nFür die Verköstigung und Raumnutzung erheben wir einen Teilnahmebeitrag von 5 EUR . \nUnser Programm im Januar: Rochus Schleicher zeigt Bilder von Kreuzen\, Denkmalen und Straßenansichten. \n 
URL:https://jakubetzstift.de/veranstaltung/seniorennachmittag-12/
LOCATION:Bennosaal\, Bautzener Straße 30\, Wittichenau\, Sachsen\, 02997\, Deutschland
ATTACH;FMTTYPE=image/png:https://jakubetzstift.de/wp-content/uploads/Seniorennachmittag_Website.png
END:VEVENT
BEGIN:VEVENT
DTSTART;TZID=Europe/Berlin:20260122T170000
DTEND;TZID=Europe/Berlin:20260122T190000
DTSTAMP:20260423T102253
CREATED:20250612T114520Z
LAST-MODIFIED:20260327T221118Z
UID:10001903-1769101200-1769108400@jakubetzstift.de
SUMMARY:Bürosprechzeit im Jakubetzstift
DESCRIPTION:Wir sind für euch da: Alle 14 Tage donnerstags (gerade Kalenderwochen)\, 17:00–19:00 Uhr. \nWährend der Bürosprechzeit könnt ihr: \n\nFragen rund um Veranstaltungen und Hausnutzung klären\nRaumbuchungen und Busanmietungen anfragen\neuch für Veranstaltungen anmelden\nFragen und Anregungen loswerden\nIdeen einbringen oder ehrenamtliches Engagement besprechen\n\nKommt einfach vorbei – eine Anmeldung ist nicht erforderlich.
URL:https://jakubetzstift.de/veranstaltung/buerosprechzeit-im-jakubetzstift/2026-01-22/
LOCATION:Jakubetzstift\, Bautzener Straße 30\, Wittichenau\, Sachsen\, 02997\, Deutschland
CATEGORIES:Bürosprechzeiten
END:VEVENT
END:VCALENDAR