BEGIN:VCALENDAR
VERSION:2.0
PRODID:-//Verein(t) für Wittichenau e.V. - ECPv6.15.20//NONSGML v1.0//EN
CALSCALE:GREGORIAN
METHOD:PUBLISH
X-ORIGINAL-URL:https://jakubetzstift.de
X-WR-CALDESC:Veranstaltungen für Verein(t) für Wittichenau e.V.
REFRESH-INTERVAL;VALUE=DURATION:PT1H
X-Robots-Tag:noindex
X-PUBLISHED-TTL:PT1H
BEGIN:VTIMEZONE
TZID:Europe/Berlin
BEGIN:DAYLIGHT
TZOFFSETFROM:+0100
TZOFFSETTO:+0200
TZNAME:CEST
DTSTART:20250330T010000
END:DAYLIGHT
BEGIN:STANDARD
TZOFFSETFROM:+0200
TZOFFSETTO:+0100
TZNAME:CET
DTSTART:20251026T010000
END:STANDARD
BEGIN:DAYLIGHT
TZOFFSETFROM:+0100
TZOFFSETTO:+0200
TZNAME:CEST
DTSTART:20260329T010000
END:DAYLIGHT
BEGIN:STANDARD
TZOFFSETFROM:+0200
TZOFFSETTO:+0100
TZNAME:CET
DTSTART:20261025T010000
END:STANDARD
BEGIN:DAYLIGHT
TZOFFSETFROM:+0100
TZOFFSETTO:+0200
TZNAME:CEST
DTSTART:20270328T010000
END:DAYLIGHT
BEGIN:STANDARD
TZOFFSETFROM:+0200
TZOFFSETTO:+0100
TZNAME:CET
DTSTART:20271031T010000
END:STANDARD
END:VTIMEZONE
BEGIN:VEVENT
DTSTART;TZID=Europe/Berlin:20260129T093000
DTEND;TZID=Europe/Berlin:20260129T110000
DTSTAMP:20260423T083317
CREATED:20260113T144809Z
LAST-MODIFIED:20260401T192018Z
UID:10002542-1769679000-1769684400@jakubetzstift.de
SUMMARY:Krabbelgruppe (0-3 Jahre)
DESCRIPTION:Gemeinsam Spielen\, sich austauschen\, eine Tasse Tee oder Kaffee trinken. Für Mamas\, Papas und Großeltern mit Kindern zwischen 0-3 Jahre. Wer möchte\, kann gerne auch Fingerspiele und Verse einbringen oder gemeinsam Lieder singen. Angeleitet und Begleitet wird die Gruppe von Barbara Beckel. Wir starten immer mit einem kleinen Lied\, einer Bewegungsgeschichte oder einem Fingerspiel. Danach ist Zeit für Austausch und gemeinsames Spiel. \n  \nDie Babys und Kinder können natürlich auch schlafen. Dann kann die Zeit auch einfach zum Austausch genutzt werden. \n  \nJeden Donnerstag von 9-11 Uhr. Einfach vorbei kommen!\nMan kann während der gesamten Zeit kommen und gehen. Es ist ein offener Treff. \nFür Kaffee\, Tee und Betriebskosten steht eine Spendenbox bereit – wir freuen uns über einen kleinen Beitrag.
URL:https://jakubetzstift.de/veranstaltung/krabbelgruppe-0-3-jahre-4/2026-01-29/
LOCATION:Jakubetzstift\, Bautzener Straße 30\, Wittichenau\, Sachsen\, 02997\, Deutschland
ATTACH;FMTTYPE=image/jpeg:https://jakubetzstift.de/wp-content/uploads/Krabbelgruppe-Plakat-Titelbild-e1744032356793.jpg
END:VEVENT
BEGIN:VEVENT
DTSTART;TZID=Europe/Berlin:20260129T193000
DTEND;TZID=Europe/Berlin:20260129T203000
DTSTAMP:20260423T083317
CREATED:20260113T152133Z
LAST-MODIFIED:20260113T152230Z
UID:10002485-1769715000-1769718600@jakubetzstift.de
SUMMARY:Vereinsstammtisch - Jahresauftakt 2026
DESCRIPTION:Euer Engagement bereichert das Leben in Wittichenau und den Ortsteilen. Mit euch wollen wir uns zu Terminen und Veranstaltungen im Jahresverlauf abstimmen. Außerdem gibt es einen kurzen Vortrag rund um Finanzen\, Vermietung und Steuerrecht für Vereine. In Anschluss ist natürlich auch Zeit für Austausch und Gemütlichkeit. \nZu dieser Veranstaltung laden wir alle ein\, die sich in einem Verein oder einer Gruppe engagieren\, angefangen von A\, wie Angelverein\, über D\, wie Dorfclub oder Z\, wie Zumba-Gruppe. Außerdem sind Unternehmer herzlich willkommen\, die sich ebenfalls an der Gestaltung unseres Stadtlebens beteiligen möchten. \n  \nSolltet ihr den Termin nicht wahrnehmen können\, könnt ihr uns gerne im Voraus eure Termine zukommen lassen. Dann tragen wir sie in den Jahresplan mit ein.
URL:https://jakubetzstift.de/veranstaltung/vereinsstammtisch-jahresauftakt-2026/
LOCATION:Bennosaal\, Bautzener Straße 30\, Wittichenau\, Sachsen\, 02997\, Deutschland
ATTACH;FMTTYPE=image/png:https://jakubetzstift.de/wp-content/uploads/Vereinsstammtisch-Website-Background-e1768317740390.png
END:VEVENT
END:VCALENDAR