BEGIN:VCALENDAR
VERSION:2.0
PRODID:-//Verein(t) für Wittichenau e.V. - ECPv6.15.20//NONSGML v1.0//EN
CALSCALE:GREGORIAN
METHOD:PUBLISH
X-ORIGINAL-URL:https://jakubetzstift.de
X-WR-CALDESC:Veranstaltungen für Verein(t) für Wittichenau e.V.
REFRESH-INTERVAL;VALUE=DURATION:PT1H
X-Robots-Tag:noindex
X-PUBLISHED-TTL:PT1H
BEGIN:VTIMEZONE
TZID:Europe/Berlin
BEGIN:DAYLIGHT
TZOFFSETFROM:+0100
TZOFFSETTO:+0200
TZNAME:CEST
DTSTART:20250330T010000
END:DAYLIGHT
BEGIN:STANDARD
TZOFFSETFROM:+0200
TZOFFSETTO:+0100
TZNAME:CET
DTSTART:20251026T010000
END:STANDARD
BEGIN:DAYLIGHT
TZOFFSETFROM:+0100
TZOFFSETTO:+0200
TZNAME:CEST
DTSTART:20260329T010000
END:DAYLIGHT
BEGIN:STANDARD
TZOFFSETFROM:+0200
TZOFFSETTO:+0100
TZNAME:CET
DTSTART:20261025T010000
END:STANDARD
BEGIN:DAYLIGHT
TZOFFSETFROM:+0100
TZOFFSETTO:+0200
TZNAME:CEST
DTSTART:20270328T010000
END:DAYLIGHT
BEGIN:STANDARD
TZOFFSETFROM:+0200
TZOFFSETTO:+0100
TZNAME:CET
DTSTART:20271031T010000
END:STANDARD
END:VTIMEZONE
BEGIN:VEVENT
DTSTART;TZID=Europe/Berlin:20260306T160000
DTEND;TZID=Europe/Berlin:20260306T180000
DTSTAMP:20260423T083502
CREATED:20251007T120132Z
LAST-MODIFIED:20251007T120132Z
UID:10002171-1772812800-1772820000@jakubetzstift.de
SUMMARY:Bildervortrag: Die Seidenstraße - Radabenteuer auf dem Weg nach China
DESCRIPTION:Anfang April 2018 verließ der Weltenradler Thomas Meixner seine Heimat in Sachsen-Anhalt um sich von Bitterfeld auf den Weg nach Osten zu machen und den alten Routen der Seidenstraße zu folgen. Er reiste durch Südosteuropa bis in die Türkei\, kam dann in die Kaukasusregion. Hier erkundete er Georgien\, Armenien und Aserbaidschan. Mit einer Fähre setzte er über das Kaspische Meer über und kurbelte von Kasachstan nach Usbekistan und Kirgisien. Schwerpunkt seiner abenteuerlichen Radfahrt wurde dann die Volksrepublik China. Er erreichte schließlich nach knapp 13.000 Kilometer im Sattel den Endpunkt seiner Reise\, die alte Kaiserstadt Xian in Zentralchina. \nDas Spannende an dieser Tour: schwierigen Reisebedingungen wie tagelanger kalter Regen in der Osttürkei\, sommerliche Hitze in Zentralasien\, Polizeikontrollen in China und ein Sandsturm in der Taklamakan-Wüste. Entschädigt für diese Strapazen wurde Meixner mit großer Gastfreundschaft\, vor allem in den muslimischen Ländern wie der Türkei\, Kasachstan und in Usbekistan. Alte historische Orte wie Khiva\, Buchara\, Samarkand und Kaschgar erinnerten ihn an die Zeiten\, als auf den alten Handelsrouten von West nach Ost nicht nur Waren sondern auch Ideen und Innovationen ihren Austausch fanden. Auf seinem Weg durch Westchina konnte er sehen und erleben\, dass sich 20 Jahre nach seinem letzten Besuch in dieser Region\, viel verändert hatte. \nVon der fast ein halbes Jahr dauernden Reise brachte Thomas Meixner jede Menge Fotos\, Video- und Audioaufnahmen mit. In einem spannenden Vortrag nimmt er seine Gäste mit auf die tausende Kilometer lange Tour. \nTickets:\nVorverkauf: 12 €\nAbendkasse: 14 €\nKartenvorverkauf: Stadtinformation/Stadtbibliothek Wittichenau\nTel.: 035725/70 338 \nThomas Meixner hält seinen Bildervortrag zweimal an diesem Freitag – einmal um 16:00 Uhr und einmal um 19:30 Uhr.
URL:https://jakubetzstift.de/veranstaltung/bildervortrag-die-seidenstrasse-radabenteuer-auf-dem-weg-nach-china/
LOCATION:Bennosaal\, Bautzener Straße 30\, Wittichenau\, Sachsen\, 02997\, Deutschland
ATTACH;FMTTYPE=image/jpeg:https://jakubetzstift.de/wp-content/uploads/Seidenstrasse_Meixner.jpg
END:VEVENT
BEGIN:VEVENT
DTSTART;TZID=Europe/Berlin:20260306T170000
DTEND;TZID=Europe/Berlin:20260306T190000
DTSTAMP:20260423T083502
CREATED:20251007T090951Z
LAST-MODIFIED:20251129T062055Z
UID:10002166-1772816400-1772823600@jakubetzstift.de
SUMMARY:Aquarell- und Acrylmalen-Lernen für Erwachsene
DESCRIPTION:Schritt für Schritt erlernt ihr mit verschiedenen Techniken das Aquarellmalen als auch die Acrylmalerei. Die Wittichenauer Künstlerin Petra Walter führt euch in diese Kunst ein.\nDer Kurs eignet sich für Einsteiger und Fortgeschrittene. \nKurstermine immer freitags 17:00 bis 19:00 Uhr\nKosten: 2 EUR/ pro Termin \nZeichenmaterial kann selbst mitgebracht werden. Eine Grundausstattung ist vorhanden. \nBei Fragen meldet euch gerne telefonisch oder per E-Mail bei uns. \nEine vorherige Anmeldung ist nicht nötig.\nDer Kurs pausiert in den Sommermonaten und läuft von Oktober bis März.
URL:https://jakubetzstift.de/veranstaltung/aquarell-acryl-malen-kurs/2026-03-06/
LOCATION:Jakubetzstift\, Bautzener Straße 30\, Wittichenau\, Sachsen\, 02997\, Deutschland
ATTACH;FMTTYPE=image/jpeg:https://jakubetzstift.de/wp-content/uploads/es-gibt-drei-baeume-die-in-aquarell-auf-einem-weissen-hintergrund-generative-ai-gemalt-sind_958192-33714.jpg
END:VEVENT
BEGIN:VEVENT
DTSTART;TZID=Europe/Berlin:20260306T193000
DTEND;TZID=Europe/Berlin:20260306T213000
DTSTAMP:20260423T083502
CREATED:20251007T093315Z
LAST-MODIFIED:20251007T120247Z
UID:10002170-1772825400-1772832600@jakubetzstift.de
SUMMARY:Bildervortrag: Die Seidenstraße - Radabenteuer auf dem Weg nach China
DESCRIPTION:Anfang April 2018 verließ der Weltenradler Thomas Meixner seine Heimat in Sachsen-Anhalt um sich von Bitterfeld auf den Weg nach Osten zu machen und den alten Routen der Seidenstraße zu folgen. Er reiste durch Südosteuropa bis in die Türkei\, kam dann in die Kaukasusregion. Hier erkundete er Georgien\, Armenien und Aserbaidschan. Mit einer Fähre setzte er über das Kaspische Meer über und kurbelte von Kasachstan nach Usbekistan und Kirgisien. Schwerpunkt seiner abenteuerlichen Radfahrt wurde dann die Volksrepublik China. Er erreichte schließlich nach knapp 13.000 Kilometer im Sattel den Endpunkt seiner Reise\, die alte Kaiserstadt Xian in Zentralchina. \nDas Spannende an dieser Tour: schwierigen Reisebedingungen wie tagelanger kalter Regen in der Osttürkei\, sommerliche Hitze in Zentralasien\, Polizeikontrollen in China und ein Sandsturm in der Taklamakan-Wüste. Entschädigt für diese Strapazen wurde Meixner mit großer Gastfreundschaft\, vor allem in den muslimischen Ländern wie der Türkei\, Kasachstan und in Usbekistan. Alte historische Orte wie Khiva\, Buchara\, Samarkand und Kaschgar erinnerten ihn an die Zeiten\, als auf den alten Handelsrouten von West nach Ost nicht nur Waren sondern auch Ideen und Innovationen ihren Austausch fanden. Auf seinem Weg durch Westchina konnte er sehen und erleben\, dass sich 20 Jahre nach seinem letzten Besuch in dieser Region\, viel verändert hatte. \nVon der fast ein halbes Jahr dauernden Reise brachte Thomas Meixner jede Menge Fotos\, Video- und Audioaufnahmen mit. In einem spannenden Vortrag nimmt er seine Gäste mit auf die tausende Kilometer lange Tour. \nTickets:\nVorverkauf: 12 €\nAbendkasse: 14 €\nKartenvorverkauf: Stadtinformation/Stadtbibliothek Wittichenau\nTel.: 035725/70 338 \nThomas Meixner hält seinen Bildervortrag zweimal an diesem Freitag – einmal um 16:00 Uhr und einmal um 19:30 Uhr.
URL:https://jakubetzstift.de/veranstaltung/bildervortrag-radreise-seidenstrasse/
LOCATION:Bennosaal\, Bautzener Straße 30\, Wittichenau\, Sachsen\, 02997\, Deutschland
ATTACH;FMTTYPE=image/jpeg:https://jakubetzstift.de/wp-content/uploads/Seidenstrasse_Meixner.jpg
END:VEVENT
END:VCALENDAR