BEGIN:VCALENDAR
VERSION:2.0
PRODID:-//Verein(t) für Wittichenau e.V. - ECPv6.15.20//NONSGML v1.0//EN
CALSCALE:GREGORIAN
METHOD:PUBLISH
X-ORIGINAL-URL:https://jakubetzstift.de
X-WR-CALDESC:Veranstaltungen für Verein(t) für Wittichenau e.V.
REFRESH-INTERVAL;VALUE=DURATION:PT1H
X-Robots-Tag:noindex
X-PUBLISHED-TTL:PT1H
BEGIN:VTIMEZONE
TZID:Europe/Berlin
BEGIN:DAYLIGHT
TZOFFSETFROM:+0100
TZOFFSETTO:+0200
TZNAME:CEST
DTSTART:20250330T010000
END:DAYLIGHT
BEGIN:STANDARD
TZOFFSETFROM:+0200
TZOFFSETTO:+0100
TZNAME:CET
DTSTART:20251026T010000
END:STANDARD
BEGIN:DAYLIGHT
TZOFFSETFROM:+0100
TZOFFSETTO:+0200
TZNAME:CEST
DTSTART:20260329T010000
END:DAYLIGHT
BEGIN:STANDARD
TZOFFSETFROM:+0200
TZOFFSETTO:+0100
TZNAME:CET
DTSTART:20261025T010000
END:STANDARD
BEGIN:DAYLIGHT
TZOFFSETFROM:+0100
TZOFFSETTO:+0200
TZNAME:CEST
DTSTART:20270328T010000
END:DAYLIGHT
BEGIN:STANDARD
TZOFFSETFROM:+0200
TZOFFSETTO:+0100
TZNAME:CET
DTSTART:20271031T010000
END:STANDARD
END:VTIMEZONE
BEGIN:VEVENT
DTSTART;TZID=Europe/Berlin:20260307T140000
DTEND;TZID=Europe/Berlin:20260307T170000
DTSTAMP:20260423T083332
CREATED:20251228T112317Z
LAST-MODIFIED:20260225T193537Z
UID:10002204-1772892000-1772902800@jakubetzstift.de
SUMMARY:Flohmarkt für Kindersachen
DESCRIPTION:In der Zeit von 14 bis 17 Uhr findet im Jakubetzstift wieder ein Flohmarkt für Kindersachen statt. \nWenn ihr mit einem Stand teilnehmen möchtet\, meldet euch unter der Telefonnummer 01520 876 1705 an.\nDie Standgebühr beträgt 10 Euro. Tische sind vorhanden (Maße: 1\,40 x 0\,80 m).
URL:https://jakubetzstift.de/veranstaltung/flohmarkt-fuer-kindersachen-5/
LOCATION:Jakubetzstift\, Bautzener Straße 30\, Wittichenau\, Sachsen\, 02997\, Deutschland
ATTACH;FMTTYPE=image/jpeg:https://jakubetzstift.de/wp-content/uploads/WhatsApp-Image-2026-02-25-at-20.20.01.jpeg
END:VEVENT
END:VCALENDAR