BEGIN:VCALENDAR
VERSION:2.0
PRODID:-//Verein(t) für Wittichenau e.V. - ECPv6.15.20//NONSGML v1.0//EN
CALSCALE:GREGORIAN
METHOD:PUBLISH
X-ORIGINAL-URL:https://jakubetzstift.de
X-WR-CALDESC:Veranstaltungen für Verein(t) für Wittichenau e.V.
REFRESH-INTERVAL;VALUE=DURATION:PT1H
X-Robots-Tag:noindex
X-PUBLISHED-TTL:PT1H
BEGIN:VTIMEZONE
TZID:Europe/Berlin
BEGIN:DAYLIGHT
TZOFFSETFROM:+0100
TZOFFSETTO:+0200
TZNAME:CEST
DTSTART:20250330T010000
END:DAYLIGHT
BEGIN:STANDARD
TZOFFSETFROM:+0200
TZOFFSETTO:+0100
TZNAME:CET
DTSTART:20251026T010000
END:STANDARD
BEGIN:DAYLIGHT
TZOFFSETFROM:+0100
TZOFFSETTO:+0200
TZNAME:CEST
DTSTART:20260329T010000
END:DAYLIGHT
BEGIN:STANDARD
TZOFFSETFROM:+0200
TZOFFSETTO:+0100
TZNAME:CET
DTSTART:20261025T010000
END:STANDARD
BEGIN:DAYLIGHT
TZOFFSETFROM:+0100
TZOFFSETTO:+0200
TZNAME:CEST
DTSTART:20270328T010000
END:DAYLIGHT
BEGIN:STANDARD
TZOFFSETFROM:+0200
TZOFFSETTO:+0100
TZNAME:CET
DTSTART:20271031T010000
END:STANDARD
END:VTIMEZONE
BEGIN:VEVENT
DTSTART;TZID=Europe/Berlin:20260324T150000
DTEND;TZID=Europe/Berlin:20260324T180000
DTSTAMP:20260423T064221
CREATED:20260310T195434Z
LAST-MODIFIED:20260310T202442Z
UID:10002530-1774364400-1774375200@jakubetzstift.de
SUMMARY:Oster-Nähwerkstatt für Kinder von 6 - 10 Jahren
DESCRIPTION:Die Kursleiterinnen unterstützen euch bei der Umsetzung kleinerer Nähprojekte\, aktuell können wir uns dem Thema Deko und kleine Geschenke\, rund um den Frühling und Ostern widmen. Bei der Verwirklichung eurer Ideen übt ihr den Umgang mit Stoff\, Schere und Nähmaschine und stellt Schritt für Schritt eure Projekte fertig. \nBitte gebt bei der Anmeldung eine Kontaktnummer an\, damit wir im Notfall anrufen können\, falls ein Kind zum Kurs nicht erscheint. \nMit der Anmeldung wird die Erlaubnis gegeben\, dass Fotos gemacht werden dürfen\, die ggf. veröffentlicht werden (Website\, Flyer\, Zeitung usw.). Falls einer Veröffentlichung von Fotos nicht zugestimmt wird\, gebt bitte kurz Bescheid. \nFalls der Kurs bereits ausgebucht ist und ihr euch nicht mehr anmelden könnt\, schreibt bitte eine E-Mail an ines.michler@jakubetzstift.de mit dem Betreff „Nähwerkstatt 24.03.26“ sowie euren Kontaktdaten. Bei Ausfall von Teilnehmern kontaktieren wir euch. \n\n\nBitte mitbringen: \n\nfalls zu Hause vorhanden: Stoffe\, Knöpfe\, Spitze\, Borte\n2 € Kursgebühr\n\nVorhanden sind: \n\nNähmaschinen\neine Auswahl an Stoffen\, Stoffresten\, Reißverschlüsse\, Knöpfe\, Schnallen und Borten\, Druckknöpfe\n\nWeitere Infos:\n \n\ngeeignet für Kinder im Alter von 6 bis 10 Jahren
URL:https://jakubetzstift.de/veranstaltung/oster-naehwerkstatt-fuer-kinder-von-6-10-jahren/
LOCATION:Jakubetzstift\, Bautzener Straße 30\, Wittichenau\, Sachsen\, 02997\, Deutschland
ATTACH;FMTTYPE=image/jpeg:https://jakubetzstift.de/wp-content/uploads/Naehen-1.jpg
END:VEVENT
END:VCALENDAR