BEGIN:VCALENDAR
VERSION:2.0
PRODID:-//Verein(t) für Wittichenau e.V. - ECPv6.15.20//NONSGML v1.0//EN
CALSCALE:GREGORIAN
METHOD:PUBLISH
X-ORIGINAL-URL:https://jakubetzstift.de
X-WR-CALDESC:Veranstaltungen für Verein(t) für Wittichenau e.V.
REFRESH-INTERVAL;VALUE=DURATION:PT1H
X-Robots-Tag:noindex
X-PUBLISHED-TTL:PT1H
BEGIN:VTIMEZONE
TZID:Europe/Berlin
BEGIN:DAYLIGHT
TZOFFSETFROM:+0100
TZOFFSETTO:+0200
TZNAME:CEST
DTSTART:20250330T010000
END:DAYLIGHT
BEGIN:STANDARD
TZOFFSETFROM:+0200
TZOFFSETTO:+0100
TZNAME:CET
DTSTART:20251026T010000
END:STANDARD
BEGIN:DAYLIGHT
TZOFFSETFROM:+0100
TZOFFSETTO:+0200
TZNAME:CEST
DTSTART:20260329T010000
END:DAYLIGHT
BEGIN:STANDARD
TZOFFSETFROM:+0200
TZOFFSETTO:+0100
TZNAME:CET
DTSTART:20261025T010000
END:STANDARD
BEGIN:DAYLIGHT
TZOFFSETFROM:+0100
TZOFFSETTO:+0200
TZNAME:CEST
DTSTART:20270328T010000
END:DAYLIGHT
BEGIN:STANDARD
TZOFFSETFROM:+0200
TZOFFSETTO:+0100
TZNAME:CET
DTSTART:20271031T010000
END:STANDARD
END:VTIMEZONE
BEGIN:VEVENT
DTSTART;TZID=Europe/Berlin:20260325T140000
DTEND;TZID=Europe/Berlin:20260325T163000
DTSTAMP:20260423T064220
CREATED:20251218T064801Z
LAST-MODIFIED:20260307T083258Z
UID:10002202-1774447200-1774456200@jakubetzstift.de
SUMMARY:Seniorennachmittag
DESCRIPTION:Achtung Terminänderung! Der Seniorennachmittag im März findet am Mittwoch\, den 25. März um 14 Uhr statt. \nEs gibt Kaffee und Gebäck und einen kleinen Programmpunkt. \nFür die Verköstigung und Raumnutzung erheben wir einen Teilnahmebeitrag von 5 EUR . \nUnser Programm im März: Wir singen Frühlingslieder und unternehmen mit Ursula Bartsch einen „Foto-Spaziergang“ ins Dubringer Moor und zu Zelders Teichen. \n 
URL:https://jakubetzstift.de/veranstaltung/seniorennachmittag-14/
LOCATION:Bennosaal\, Bautzener Straße 30\, Wittichenau\, Sachsen\, 02997\, Deutschland
ATTACH;FMTTYPE=image/png:https://jakubetzstift.de/wp-content/uploads/Seniorennachmittag_Website.png
END:VEVENT
BEGIN:VEVENT
DTSTART;TZID=Europe/Berlin:20260325T150000
DTEND;TZID=Europe/Berlin:20260325T180000
DTSTAMP:20260423T064220
CREATED:20260310T201746Z
LAST-MODIFIED:20260310T201746Z
UID:10002533-1774450800-1774461600@jakubetzstift.de
SUMMARY:Oster-Nähwerkstatt für Kinder ab 10 Jahren
DESCRIPTION:Die Kursleiterinnen unterstützen euch bei der Umsetzung kleinerer Nähprojekte\, aktuell können wir uns dem Thema Deko und kleine Geschenke\, rund um den Frühling und Ostern widmen. Bei der Verwirklichung eurer Ideen übt ihr den Umgang mit Stoff\, Schere und Nähmaschine und stellt Schritt für Schritt eure Projekte fertig. \nBitte gebt bei der Anmeldung eine Kontaktnummer an\, damit wir im Notfall anrufen können\, falls ein Kind zum Kurs nicht erscheint. \nMit der Anmeldung wird die Erlaubnis gegeben\, dass Fotos gemacht werden dürfen\, die ggf. veröffentlicht werden (Website\, Flyer\, Zeitung usw.). Falls einer Veröffentlichung von Fotos nicht zugestimmt wird\, gebt bitte kurz Bescheid. \nFalls der Kurs bereits ausgebucht ist und ihr euch nicht mehr anmelden könnt\, schreibt bitte eine E-Mail an ines.michler@jakubetzstift.de mit dem Betreff „Nähwerkstatt 25.03.26“ sowie euren Kontaktdaten. Bei Ausfall von Teilnehmern kontaktieren wir euch. \n\n\nBitte mitbringen: \n\nfalls zu Hause vorhanden: Stoffe\, Knöpfe\, Spitze\, Borte\n2 € Kursgebühr\n\nVorhanden sind: \n\nNähmaschinen\neine Auswahl an Stoffen\, Stoffresten\, Reißverschlüsse\, Knöpfe\, Schnallen und Borten\, Druckknöpfe\n\n\n\n\nWeitere Infos:\n \n\nfür Kinder ab 10 Jahren
URL:https://jakubetzstift.de/veranstaltung/oster-naehwerkstatt-fuer-kinder-ab-10-jahren-2/
LOCATION:Jakubetzstift\, Bautzener Straße 30\, Wittichenau\, Sachsen\, 02997\, Deutschland
ATTACH;FMTTYPE=image/jpeg:https://jakubetzstift.de/wp-content/uploads/Naehen-2.jpg
END:VEVENT
END:VCALENDAR