BEGIN:VCALENDAR
VERSION:2.0
PRODID:-//Verein(t) für Wittichenau e.V. - ECPv6.15.20//NONSGML v1.0//EN
CALSCALE:GREGORIAN
METHOD:PUBLISH
X-ORIGINAL-URL:https://jakubetzstift.de
X-WR-CALDESC:Veranstaltungen für Verein(t) für Wittichenau e.V.
REFRESH-INTERVAL;VALUE=DURATION:PT1H
X-Robots-Tag:noindex
X-PUBLISHED-TTL:PT1H
BEGIN:VTIMEZONE
TZID:Europe/Berlin
BEGIN:DAYLIGHT
TZOFFSETFROM:+0100
TZOFFSETTO:+0200
TZNAME:CEST
DTSTART:20250330T010000
END:DAYLIGHT
BEGIN:STANDARD
TZOFFSETFROM:+0200
TZOFFSETTO:+0100
TZNAME:CET
DTSTART:20251026T010000
END:STANDARD
BEGIN:DAYLIGHT
TZOFFSETFROM:+0100
TZOFFSETTO:+0200
TZNAME:CEST
DTSTART:20260329T010000
END:DAYLIGHT
BEGIN:STANDARD
TZOFFSETFROM:+0200
TZOFFSETTO:+0100
TZNAME:CET
DTSTART:20261025T010000
END:STANDARD
BEGIN:DAYLIGHT
TZOFFSETFROM:+0100
TZOFFSETTO:+0200
TZNAME:CEST
DTSTART:20270328T010000
END:DAYLIGHT
BEGIN:STANDARD
TZOFFSETFROM:+0200
TZOFFSETTO:+0100
TZNAME:CET
DTSTART:20271031T010000
END:STANDARD
END:VTIMEZONE
BEGIN:VEVENT
DTSTART;TZID=Europe/Berlin:20260327T170000
DTEND;TZID=Europe/Berlin:20260327T190000
DTSTAMP:20260423T064220
CREATED:20251007T090951Z
LAST-MODIFIED:20251129T062055Z
UID:10002169-1774630800-1774638000@jakubetzstift.de
SUMMARY:Aquarell- und Acrylmalen-Lernen für Erwachsene
DESCRIPTION:Schritt für Schritt erlernt ihr mit verschiedenen Techniken das Aquarellmalen als auch die Acrylmalerei. Die Wittichenauer Künstlerin Petra Walter führt euch in diese Kunst ein.\nDer Kurs eignet sich für Einsteiger und Fortgeschrittene. \nKurstermine immer freitags 17:00 bis 19:00 Uhr\nKosten: 2 EUR/ pro Termin \nZeichenmaterial kann selbst mitgebracht werden. Eine Grundausstattung ist vorhanden. \nBei Fragen meldet euch gerne telefonisch oder per E-Mail bei uns. \nEine vorherige Anmeldung ist nicht nötig.\nDer Kurs pausiert in den Sommermonaten und läuft von Oktober bis März.
URL:https://jakubetzstift.de/veranstaltung/aquarell-acryl-malen-kurs/2026-03-27/
LOCATION:Jakubetzstift\, Bautzener Straße 30\, Wittichenau\, Sachsen\, 02997\, Deutschland
ATTACH;FMTTYPE=image/jpeg:https://jakubetzstift.de/wp-content/uploads/es-gibt-drei-baeume-die-in-aquarell-auf-einem-weissen-hintergrund-generative-ai-gemalt-sind_958192-33714.jpg
END:VEVENT
BEGIN:VEVENT
DTSTART;TZID=Europe/Berlin:20260327T190000
DTEND;TZID=Europe/Berlin:20260327T210000
DTSTAMP:20260423T064220
CREATED:20260201T194722Z
LAST-MODIFIED:20260228T080304Z
UID:10002512-1774638000-1774645200@jakubetzstift.de
SUMMARY:3D‑Druck trifft Design – dekorative 2D‑Bilder selbst gestalten
DESCRIPTION:Entdecke\, wie du kinderleicht dein eigenes Deko‑Bild im 3D‑Druck erschaffst.\nDu kannst ein Motiv selbst entwerfen oder Grafiken aus dem Internet als Grundlage nutzen.\nGemeinsam bereiten wir dein Design so vor\, dass daraus ein Bild entsteht\, das flach aussieht – aber mit echter 3D‑Struktur überrascht.\nOb Wandbild\, Aufsteller oder kleines Geschenk: Du bestimmst den Stil.\nWir zeigen dir Schritt für Schritt\, wie du dein Motiv für den Druck optimierst und erfolgreich druckst.\nAm Ende nimmst du dein fertiges\, persönliches 3D‑Kunstwerk mit nach Hause.\nTrau dich – es ist einfacher\, als du denkst!\n  \nFalls du schon vorher wissen willst\, wie es geht: Schau dir unser Video-Tutorial an. \n Hier geht’s zum Video. \n  \nWo und Wann? \nEinmal im Monat kannst du an unseren Geräten im Digitallabor einen Einführungskurs mitmachen.\nEs gibt aktuell Kurse am Lasercutter\, Plotter\, 3D-Drucker und Transferpresse. Damit kannst du beispielsweise Ersatzteile drucken\, T-Shirts gestalten\, Deko basteln oder Schilder lasern. Die neuen Hightech-Werkzeuge bieten ungeahnte Möglichkeiten. \nEine Übersicht der Termine findest du hier. \nWozu machen wir diese Einsteigerkurse? \nNach Absolvieren eines Einstiegskurses und mit etwas Übung\, kann man die Technik im Digitallabor während der offenen Werkstatt selbstständig nutzen oder auch eigene Angebote für andere machen. \nIch will mehr! \nWir bieten zusätzlich immer wieder thematische Workshops an\, zu denen man sich ebenfalls anmelden kann. Sei gerne mit dabei und erweitere deine Fähigkeiten. \nWas kostet das alles? \nFür die genutzten Materialien\, die Betriebskosten und weitere Aufwendungen fällt ein kleiner Beitrag an.\nDer überwiegende Teil der Kosten wird über Fördergelder gedeckt. Daher sind Spenden jederzeit herzlich willkommen. \n 
URL:https://jakubetzstift.de/veranstaltung/3d-druck-trifft-design-dekorative-2d-bilder-selbst-gestalten/
LOCATION:Jakubetzstift\, Bautzener Straße 30\, Wittichenau\, Sachsen\, 02997\, Deutschland
CATEGORIES:Digitallabor,Einführungskurse
ATTACH;FMTTYPE=image/png:https://jakubetzstift.de/wp-content/uploads/image-2026-01-31-153324.png
END:VEVENT
END:VCALENDAR