BEGIN:VCALENDAR
VERSION:2.0
PRODID:-//Verein(t) für Wittichenau e.V. - ECPv6.15.20//NONSGML v1.0//EN
CALSCALE:GREGORIAN
METHOD:PUBLISH
X-WR-CALNAME:Verein(t) für Wittichenau e.V.
X-ORIGINAL-URL:https://jakubetzstift.de
X-WR-CALDESC:Veranstaltungen für Verein(t) für Wittichenau e.V.
REFRESH-INTERVAL;VALUE=DURATION:PT1H
X-Robots-Tag:noindex
X-PUBLISHED-TTL:PT1H
BEGIN:VTIMEZONE
TZID:Europe/Berlin
BEGIN:DAYLIGHT
TZOFFSETFROM:+0100
TZOFFSETTO:+0200
TZNAME:CEST
DTSTART:20250330T010000
END:DAYLIGHT
BEGIN:STANDARD
TZOFFSETFROM:+0200
TZOFFSETTO:+0100
TZNAME:CET
DTSTART:20251026T010000
END:STANDARD
BEGIN:DAYLIGHT
TZOFFSETFROM:+0100
TZOFFSETTO:+0200
TZNAME:CEST
DTSTART:20260329T010000
END:DAYLIGHT
BEGIN:STANDARD
TZOFFSETFROM:+0200
TZOFFSETTO:+0100
TZNAME:CET
DTSTART:20261025T010000
END:STANDARD
BEGIN:DAYLIGHT
TZOFFSETFROM:+0100
TZOFFSETTO:+0200
TZNAME:CEST
DTSTART:20270328T010000
END:DAYLIGHT
BEGIN:STANDARD
TZOFFSETFROM:+0200
TZOFFSETTO:+0100
TZNAME:CET
DTSTART:20271031T010000
END:STANDARD
END:VTIMEZONE
BEGIN:VEVENT
DTSTART;TZID=Europe/Berlin:20260409T093000
DTEND;TZID=Europe/Berlin:20260409T110000
DTSTAMP:20260423T050300
CREATED:20260113T144809Z
LAST-MODIFIED:20260401T192018Z
UID:10002552-1775727000-1775732400@jakubetzstift.de
SUMMARY:Krabbelgruppe (0-3 Jahre)
DESCRIPTION:Gemeinsam Spielen\, sich austauschen\, eine Tasse Tee oder Kaffee trinken. Für Mamas\, Papas und Großeltern mit Kindern zwischen 0-3 Jahre. Wer möchte\, kann gerne auch Fingerspiele und Verse einbringen oder gemeinsam Lieder singen. Angeleitet und Begleitet wird die Gruppe von Barbara Beckel. Wir starten immer mit einem kleinen Lied\, einer Bewegungsgeschichte oder einem Fingerspiel. Danach ist Zeit für Austausch und gemeinsames Spiel. \n  \nDie Babys und Kinder können natürlich auch schlafen. Dann kann die Zeit auch einfach zum Austausch genutzt werden. \n  \nJeden Donnerstag von 9-11 Uhr. Einfach vorbei kommen!\nMan kann während der gesamten Zeit kommen und gehen. Es ist ein offener Treff. \nFür Kaffee\, Tee und Betriebskosten steht eine Spendenbox bereit – wir freuen uns über einen kleinen Beitrag.
URL:https://jakubetzstift.de/veranstaltung/krabbelgruppe-0-3-jahre-4/2026-04-09/
LOCATION:Jakubetzstift\, Bautzener Straße 30\, Wittichenau\, Sachsen\, 02997\, Deutschland
ATTACH;FMTTYPE=image/jpeg:https://jakubetzstift.de/wp-content/uploads/Krabbelgruppe-Plakat-Titelbild-e1744032356793.jpg
END:VEVENT
BEGIN:VEVENT
DTSTART;TZID=Europe/Berlin:20260409T180000
DTEND;TZID=Europe/Berlin:20260409T200000
DTSTAMP:20260423T050300
CREATED:20260324T084724Z
LAST-MODIFIED:20260401T192229Z
UID:10002812-1775757600-1775764800@jakubetzstift.de
SUMMARY:Vortrag: Mein Freiwilligendienst in Indien
DESCRIPTION:Nach ihrem Abitur in Hoyerswerda entschied sich Klara Zschornak für einen Freiwilligendienst in Indien und verbrachte mehrere Monate in einem Kinderheim in Goa und Mumbai. In dieser Zeit unterstützte sie die Betreuung der Kinder\, begleitete ihren Alltag und sammelte intensive Eindrücke vom Leben vor Ort. \nIn ihrem Vortrag berichtet Klara von ihren persönlichen Erfahrungen im Projekt\, von Begegnungen mit den Kindern sowie von den kulturellen und gesellschaftlichen Besonderheiten Indiens. Dabei gibt sie Einblicke in ihren Alltag zwischen Kinderheim\, Großstadt und fremder Kultur. \nGleichzeitig beleuchtet sie den Freiwilligendienst kritisch und reflektiert\, welche Rolle internationale Freiwillige in sozialen Projekten spielen\, welche Herausforderungen damit verbunden sind und was ein solcher Einsatz tatsächlich bewirken kann. \nBeim Vortrag werden Spenden für ein Kinderheim und die Restaurierung einer Kirche in Indien gesammelt.
URL:https://jakubetzstift.de/veranstaltung/freiwilligendienst-indien/
LOCATION:Jakubetzstift\, Bautzener Straße 30\, Wittichenau\, Sachsen\, 02997\, Deutschland
ATTACH;FMTTYPE=image/jpeg:https://jakubetzstift.de/wp-content/uploads/Plakat-Indien-Vortrag.jpeg
END:VEVENT
END:VCALENDAR