BEGIN:VCALENDAR
VERSION:2.0
PRODID:-//Verein(t) für Wittichenau e.V. - ECPv6.15.20//NONSGML v1.0//EN
CALSCALE:GREGORIAN
METHOD:PUBLISH
X-WR-CALNAME:Verein(t) für Wittichenau e.V.
X-ORIGINAL-URL:https://jakubetzstift.de
X-WR-CALDESC:Veranstaltungen für Verein(t) für Wittichenau e.V.
REFRESH-INTERVAL;VALUE=DURATION:PT1H
X-Robots-Tag:noindex
X-PUBLISHED-TTL:PT1H
BEGIN:VTIMEZONE
TZID:Europe/Berlin
BEGIN:DAYLIGHT
TZOFFSETFROM:+0100
TZOFFSETTO:+0200
TZNAME:CEST
DTSTART:20250330T010000
END:DAYLIGHT
BEGIN:STANDARD
TZOFFSETFROM:+0200
TZOFFSETTO:+0100
TZNAME:CET
DTSTART:20251026T010000
END:STANDARD
BEGIN:DAYLIGHT
TZOFFSETFROM:+0100
TZOFFSETTO:+0200
TZNAME:CEST
DTSTART:20260329T010000
END:DAYLIGHT
BEGIN:STANDARD
TZOFFSETFROM:+0200
TZOFFSETTO:+0100
TZNAME:CET
DTSTART:20261025T010000
END:STANDARD
BEGIN:DAYLIGHT
TZOFFSETFROM:+0100
TZOFFSETTO:+0200
TZNAME:CEST
DTSTART:20270328T010000
END:DAYLIGHT
BEGIN:STANDARD
TZOFFSETFROM:+0200
TZOFFSETTO:+0100
TZNAME:CET
DTSTART:20271031T010000
END:STANDARD
END:VTIMEZONE
BEGIN:VEVENT
DTSTART;TZID=Europe/Berlin:20260414T180000
DTEND;TZID=Europe/Berlin:20260414T193000
DTSTAMP:20260423T045729
CREATED:20260127T152811Z
LAST-MODIFIED:20260127T152835Z
UID:10002504-1776189600-1776195000@jakubetzstift.de
SUMMARY:Zocken\, TikTok & Klassenchat – Medien im Familienalltag
DESCRIPTION:Wie begleiten wir unsere Kinder gut durch die digitale Welt? Ab wann ist ein eigenes Smartphone sinnvoll? Wie gehen wir mit TikTok\, WhatsApp\, Fortnite & Co. um – und wie schützen wir Kinder vor Risiken im Netz? \nWir laden Eltern herzlich zu einem gemeinsamen Medienelternabend ins Jakubetzstift ein. Die Veranstaltung wird von Social Web macht Schule aus Dresden durchgeführt und richtet sich an Eltern mit Kindern von der Grundschule bis etwa Klasse 7. \nDer Abend gibt einen verständlichen Einblick in die Medienwelt von Kindern und Jugendlichen und liefert viele praktische Tipps für den Familienalltag. \nThemen u. a.: \n\nWhatsApp\, TikTok\, Fortnite & Co.\nDas erste Smartphone\nMedienzeiten & digitale Spiele\nCybermobbing & Cybergrooming\nPrivatsphäre & Jugendschutz\n\nDer Elternabend wurde gemeinsam mit den örtlichen Bildungseinrichtungen geplant\, damit Eltern eine zentrale\, gemeinsame Veranstaltung besuchen können. Nutzen Sie die Chance für einen Austausch auf Augenhöhe. \nDauer: ca. 90 MinutenReferent: Social Web macht Schule (Dresden) \nKostenfrei dank Förderung durch das Mediennetzwerk Lausitz\, ein Projekt des KulturFabrik Hoyerswerda e.V.
URL:https://jakubetzstift.de/veranstaltung/zocken-tiktok-klassenchat-medien-im-familienalltag/
LOCATION:Jakubetzstift\, Bautzener Straße 30\, Wittichenau\, Sachsen\, 02997\, Deutschland
ATTACH;FMTTYPE=image/png:https://jakubetzstift.de/wp-content/uploads/Screenshot-2026-01-27-162736.png
END:VEVENT
END:VCALENDAR