BEGIN:VCALENDAR
VERSION:2.0
PRODID:-//Verein(t) für Wittichenau e.V. - ECPv6.15.20//NONSGML v1.0//EN
CALSCALE:GREGORIAN
METHOD:PUBLISH
X-ORIGINAL-URL:https://jakubetzstift.de
X-WR-CALDESC:Veranstaltungen für Verein(t) für Wittichenau e.V.
REFRESH-INTERVAL;VALUE=DURATION:PT1H
X-Robots-Tag:noindex
X-PUBLISHED-TTL:PT1H
BEGIN:VTIMEZONE
TZID:Europe/Berlin
BEGIN:DAYLIGHT
TZOFFSETFROM:+0100
TZOFFSETTO:+0200
TZNAME:CEST
DTSTART:20250330T010000
END:DAYLIGHT
BEGIN:STANDARD
TZOFFSETFROM:+0200
TZOFFSETTO:+0100
TZNAME:CET
DTSTART:20251026T010000
END:STANDARD
BEGIN:DAYLIGHT
TZOFFSETFROM:+0100
TZOFFSETTO:+0200
TZNAME:CEST
DTSTART:20260329T010000
END:DAYLIGHT
BEGIN:STANDARD
TZOFFSETFROM:+0200
TZOFFSETTO:+0100
TZNAME:CET
DTSTART:20261025T010000
END:STANDARD
BEGIN:DAYLIGHT
TZOFFSETFROM:+0100
TZOFFSETTO:+0200
TZNAME:CEST
DTSTART:20270328T010000
END:DAYLIGHT
BEGIN:STANDARD
TZOFFSETFROM:+0200
TZOFFSETTO:+0100
TZNAME:CET
DTSTART:20271031T010000
END:STANDARD
END:VTIMEZONE
BEGIN:VEVENT
DTSTART;TZID=Europe/Berlin:20260418T090000
DTEND;TZID=Europe/Berlin:20260418T113000
DTSTAMP:20260423T045004
CREATED:20260318T193447Z
LAST-MODIFIED:20260321T111303Z
UID:10002535-1776502800-1776511800@jakubetzstift.de
SUMMARY:Natur-Workshop für Kinder: Kunterbunte Kräutertöpfe & Kräuterwunder
DESCRIPTION:Der Frühling ist da – und mit ihm die kleinen Wunder der Natur! In diesem liebevoll gestalteten Workshop dürfen Kinder die Welt der Kräuter mit allen Sinnen entdecken: riechen\, fühlen\, probieren und natürlich kreativ gestalten. \nGemeinsam lernen wir spannende Wild- und Gartenkräuter kennen. Die Kinder erfahren spielerisch\, wie die Kräuter riechen\, wie sie schmecken und wofür man sie im Alltag verwenden kann. Im kreativen Teil gestalten die Kinder ihre eigenen bunten Kräutertöpfe. Mit Farben\, Fantasie und viel Freude wird gemalt und dekoriert. Anschließend werden die Töpfe mit kleinen grünen Schätzen gefüllt – so entsteht ein persönlicher Mini-Kräutergarten\, den jedes Kind mit nach Hause nehmen darf. \nDer Workshop verbindet Naturerlebnis\, Kreativität und gemeinsames Entdecken und lädt Kinder dazu ein\, die Vielfalt der Kräuter spielerisch kennenzulernen. \nEin kreativer Natur-Workshop voller Düfte\, Farben und kleiner Kräuterwunder wartet auf euch! \n Alter: 5-12 Jahre (ältere Kinder willkommen) \nGruppengröße: 10 Kinder \nBitte mitbringen: eine Bastel- oder Malschürze (falls vorhanden)\, ein kleines Getränk \nZeit: 9:00 bis 11:30Uhr \nTeilnahmebeitrag: 5 Euro \nWorkshop-Leitung: Anne Bresan (zertifizierte Kräuterpädagogin aus Sollschwitz) \nAnmeldung per Mail an Anne.Bresan@freenet.de oder per WhatsApp/SMS an: 0173/6950170 \nMit der Anmeldung erklären sich die Erziehungsberechtigten damit einverstanden\, dass Fotos während des Workshops gemacht werden dürfen. Falls dies nicht gewünscht ist\, gebt bitte der Leitenden kurz Bescheid. \nFoto: freepik
URL:https://jakubetzstift.de/veranstaltung/natur-workshop-1/
LOCATION:Jakubetzstift\, Bautzener Straße 30\, Wittichenau\, Sachsen\, 02997\, Deutschland
ATTACH;FMTTYPE=image/jpeg:https://jakubetzstift.de/wp-content/uploads/natur-workshop-1_web.jpg
END:VEVENT
END:VCALENDAR