BEGIN:VCALENDAR
VERSION:2.0
PRODID:-//Verein(t) für Wittichenau e.V. - ECPv6.15.20//NONSGML v1.0//EN
CALSCALE:GREGORIAN
METHOD:PUBLISH
X-ORIGINAL-URL:https://jakubetzstift.de
X-WR-CALDESC:Veranstaltungen für Verein(t) für Wittichenau e.V.
REFRESH-INTERVAL;VALUE=DURATION:PT1H
X-Robots-Tag:noindex
X-PUBLISHED-TTL:PT1H
BEGIN:VTIMEZONE
TZID:Europe/Berlin
BEGIN:DAYLIGHT
TZOFFSETFROM:+0100
TZOFFSETTO:+0200
TZNAME:CEST
DTSTART:20250330T010000
END:DAYLIGHT
BEGIN:STANDARD
TZOFFSETFROM:+0200
TZOFFSETTO:+0100
TZNAME:CET
DTSTART:20251026T010000
END:STANDARD
BEGIN:DAYLIGHT
TZOFFSETFROM:+0100
TZOFFSETTO:+0200
TZNAME:CEST
DTSTART:20260329T010000
END:DAYLIGHT
BEGIN:STANDARD
TZOFFSETFROM:+0200
TZOFFSETTO:+0100
TZNAME:CET
DTSTART:20261025T010000
END:STANDARD
BEGIN:DAYLIGHT
TZOFFSETFROM:+0100
TZOFFSETTO:+0200
TZNAME:CEST
DTSTART:20270328T010000
END:DAYLIGHT
BEGIN:STANDARD
TZOFFSETFROM:+0200
TZOFFSETTO:+0100
TZNAME:CET
DTSTART:20271031T010000
END:STANDARD
END:VTIMEZONE
BEGIN:VEVENT
DTSTART;TZID=Europe/Berlin:20260420T173000
DTEND;TZID=Europe/Berlin:20260420T203000
DTSTAMP:20260423T045846
CREATED:20260227T184454Z
LAST-MODIFIED:20260227T184454Z
UID:10002524-1776706200-1776717000@jakubetzstift.de
SUMMARY:Nähkränzel
DESCRIPTION:Das Nähkränzel lädt jeden 1. und 3. Montag im Monat zu einem gemeinsamen Nähtreffen ein. Es können eigene Nähprojekte in entspannter Runde realisiert\, Ideen und Anregungen geteilt sowie Erfahrungen rund ums Nähen ausgetauscht werden. Das Treffen richtet sich an alle\, die bereits erste Näherfahrungen mitbringen und Freude am kreativen Arbeiten in der Gemeinschaft haben. \nAlle sind herzlich eingeladen\, in kreativer Atmosphäre zu nähen und sich inspirieren zu lassen. Eine Anmeldung ist nicht nötig. \nBitte mitbringen: \n\nStoffe\neigene Nähutensilien und Nähkorb\n2 € Gebühr für die Raumnutzung\n\nDie eigene Nähmaschine mitzubringen ist optional; vor Ort sind Nähmaschinen vorhanden. Eine Auswahl an Web- und Jerseystoffen\, Bändern und Knöpfen steht zur Verfügung und kann gegen eine Spende genutzt werden. \nBei Fragen zum Nähkränzel gern eine E-Mail an ines.michler@jakubetzstift.de senden.
URL:https://jakubetzstift.de/veranstaltung/naehkraenzel-23/
LOCATION:Jakubetzstift\, Bautzener Straße 30\, Wittichenau\, Sachsen\, 02997\, Deutschland
ATTACH;FMTTYPE=image/jpeg:https://jakubetzstift.de/wp-content/uploads/Titel-Naehkraenzel-1-scaled.jpg
END:VEVENT
BEGIN:VEVENT
DTSTART;TZID=Europe/Berlin:20260420T190000
DTEND;TZID=Europe/Berlin:20260420T200000
DTSTAMP:20260423T045846
CREATED:20260318T193806Z
LAST-MODIFIED:20260318T193806Z
UID:10002536-1776711600-1776715200@jakubetzstift.de
SUMMARY:Vorsorge im Alter - Infoabend mit Bestattungshaus Konieczny
DESCRIPTION:Viele Menschen fragen sich: Was sollte ich im Alter rechtzeitig regeln? Welche kleinen Schritte entlasten mich und meine Angehörigen? Und wo lauern typische Stolpersteine\, über die man erst nachdenkt\, wenn es eigentlich schon zu spät ist? \n\nAn diesem Informationsabend geben\nBirgit Graf (Bestattungshaus Konieczny\, Filiale Wittichenau)\nund Kathy Koeppen (Betriebsleiterin)\neinen verständlichen Überblick über wichtige Themen rund um Vorsorge\, Entscheidungen und gute Begleitung im Alter. \nDie Inhalte sind alltagsnah\, gut nachvollziehbar und bieten Raum für Ihre Fragen. \n\n  \nKostenfreier Eintritt. Getränke auf Spendenbasis.
URL:https://jakubetzstift.de/veranstaltung/vorsorge-im-alter-infoabend-mit-bestattungshaus-konieczny/
LOCATION:Jakubetzstift\, Bautzener Straße 30\, Wittichenau\, Sachsen\, 02997\, Deutschland
ATTACH;FMTTYPE=image/jpeg:https://jakubetzstift.de/wp-content/uploads/23_Header_Konieczny-e1773862641640.jpg
END:VEVENT
END:VCALENDAR