BEGIN:VCALENDAR
VERSION:2.0
PRODID:-//Verein(t) für Wittichenau e.V. - ECPv6.15.20//NONSGML v1.0//EN
CALSCALE:GREGORIAN
METHOD:PUBLISH
X-WR-CALNAME:Verein(t) für Wittichenau e.V.
X-ORIGINAL-URL:https://jakubetzstift.de
X-WR-CALDESC:Veranstaltungen für Verein(t) für Wittichenau e.V.
REFRESH-INTERVAL;VALUE=DURATION:PT1H
X-Robots-Tag:noindex
X-PUBLISHED-TTL:PT1H
BEGIN:VTIMEZONE
TZID:Europe/Berlin
BEGIN:DAYLIGHT
TZOFFSETFROM:+0100
TZOFFSETTO:+0200
TZNAME:CEST
DTSTART:20250330T010000
END:DAYLIGHT
BEGIN:STANDARD
TZOFFSETFROM:+0200
TZOFFSETTO:+0100
TZNAME:CET
DTSTART:20251026T010000
END:STANDARD
BEGIN:DAYLIGHT
TZOFFSETFROM:+0100
TZOFFSETTO:+0200
TZNAME:CEST
DTSTART:20260329T010000
END:DAYLIGHT
BEGIN:STANDARD
TZOFFSETFROM:+0200
TZOFFSETTO:+0100
TZNAME:CET
DTSTART:20261025T010000
END:STANDARD
BEGIN:DAYLIGHT
TZOFFSETFROM:+0100
TZOFFSETTO:+0200
TZNAME:CEST
DTSTART:20270328T010000
END:DAYLIGHT
BEGIN:STANDARD
TZOFFSETFROM:+0200
TZOFFSETTO:+0100
TZNAME:CET
DTSTART:20271031T010000
END:STANDARD
END:VTIMEZONE
BEGIN:VEVENT
DTSTART;TZID=Europe/Berlin:20260509T090000
DTEND;TZID=Europe/Berlin:20260509T130000
DTSTAMP:20260423T063828
CREATED:20260407T182630Z
LAST-MODIFIED:20260407T182630Z
UID:10002824-1778317200-1778331600@jakubetzstift.de
SUMMARY:Kochkurs für Kinder
DESCRIPTION:Der Kinderkochkurs lädt Kinder ein\, zusammen regionale und saisonale Gerichte zu entdecken und am Ende natürlich gemeinsam zu essen. Vorerfahrungen in der Küche sind dabei nicht notwendig. \n\nGruppengröße: 15 Kinder\n\nBitte mitbringen:\n\neine A4-Mappe für die Rezepte\nfalls vorhanden: eine Kochschürze\nTeilnahmegebühr\n\n\n\nLeitung Kochkurs:\n \nSaskia Schimann & Luzia Schlenstedt (Verein(t) für Wittichenau e.V.) \nAnmeldung:\n \nper Mail an: \n\nsaskia.schimann@outlook.de\noder WhatsApp/SMS an 01577 9794885\n\nBitte gebt bei Anmeldung eine Kontaktnummer an\, damit wir im Notfall anrufen können\, falls ein Kind zum Kurs nicht erscheint. \nMit der Anmeldung erlauben die Erziehungsberechtigten\, dass Fotos beim Kochkurs gemacht werden dürfen – falls dies nicht der Fall ist\, geben sie bitte den Leitenden beim Kochkurs kurz Bescheid\, dass keine Fotos erwünscht sind.
URL:https://jakubetzstift.de/veranstaltung/kochkurs-fuer-kinder-28/
LOCATION:Jakubetzstift\, Bautzener Straße 30\, Wittichenau\, Sachsen\, 02997\, Deutschland
CATEGORIES:Kochkurs für Kinder
ATTACH;FMTTYPE=image/jpeg:https://jakubetzstift.de/wp-content/uploads/Kochkurs.jpg
END:VEVENT
END:VCALENDAR