BEGIN:VCALENDAR
VERSION:2.0
PRODID:-//Verein(t) für Wittichenau e.V. - ECPv6.15.20//NONSGML v1.0//EN
CALSCALE:GREGORIAN
METHOD:PUBLISH
X-WR-CALNAME:Verein(t) für Wittichenau e.V.
X-ORIGINAL-URL:https://jakubetzstift.de
X-WR-CALDESC:Veranstaltungen für Verein(t) für Wittichenau e.V.
REFRESH-INTERVAL;VALUE=DURATION:PT1H
X-Robots-Tag:noindex
X-PUBLISHED-TTL:PT1H
BEGIN:VTIMEZONE
TZID:Europe/Berlin
BEGIN:DAYLIGHT
TZOFFSETFROM:+0100
TZOFFSETTO:+0200
TZNAME:CEST
DTSTART:20250330T010000
END:DAYLIGHT
BEGIN:STANDARD
TZOFFSETFROM:+0200
TZOFFSETTO:+0100
TZNAME:CET
DTSTART:20251026T010000
END:STANDARD
BEGIN:DAYLIGHT
TZOFFSETFROM:+0100
TZOFFSETTO:+0200
TZNAME:CEST
DTSTART:20260329T010000
END:DAYLIGHT
BEGIN:STANDARD
TZOFFSETFROM:+0200
TZOFFSETTO:+0100
TZNAME:CET
DTSTART:20261025T010000
END:STANDARD
BEGIN:DAYLIGHT
TZOFFSETFROM:+0100
TZOFFSETTO:+0200
TZNAME:CEST
DTSTART:20270328T010000
END:DAYLIGHT
BEGIN:STANDARD
TZOFFSETFROM:+0200
TZOFFSETTO:+0100
TZNAME:CET
DTSTART:20271031T010000
END:STANDARD
END:VTIMEZONE
BEGIN:VEVENT
DTSTART;TZID=Europe/Berlin:20260520T170000
DTEND;TZID=Europe/Berlin:20260520T183000
DTSTAMP:20260423T063739
CREATED:20251130T194619Z
LAST-MODIFIED:20260416T190535Z
UID:10002183-1779296400-1779301800@jakubetzstift.de
SUMMARY:Fit Digital: Nützliche Apps
DESCRIPTION:Heute bei Fit Digital:\nIn diesem Angebot zeigen wir dir praktische Apps\, die dir im Alltag helfen. Du lernst zum Beispiel\, wie du Wecker\, Kalender oder Taschenlampe nutzt\, aber auch andere hilfreiche Funktionen auf deinem Smartphone entdeckst. Außerdem schauen wir gemeinsam in den App-Store und laden eine App herunter. Schritt für Schritt erklären wir dir\, wie alles funktioniert\, damit du dein Handy noch besser und einfacher im Alltag nutzen kannst. \nHier geht’s zu allen Terminen & Themen bei Fit Digital \n  \nUnsere Fit-Digital-Reihe: \nDie Fit-Digital-Kurse machen euch fit im souveränen Umgang mit eurem Smartphone oder Tablet und mit digitalen Werkzeugen. Für Einsteiger und Fortgeschrittene wird Wissen rund um grundlegende Technologien\, Apps und sichere Mediennutzung vermittelt. Natürlich ist auch immer Zeit für individuelle Fragen und aktives Ausprobieren. \n  \nEine Veranstaltung in Kooperation mit dem Mediennetzwerk Lausitz\nBringt gern euer eigenes Endgerät mit.
URL:https://jakubetzstift.de/veranstaltung/fit-digital-nuetzliche-apps/
LOCATION:Jakubetzstift\, Bautzener Straße 30\, Wittichenau\, Sachsen\, 02997\, Deutschland
CATEGORIES:Digitallabor,Fit Digital
ATTACH;FMTTYPE=image/jpeg:https://jakubetzstift.de/wp-content/uploads/Hands-using-mobile-apps-in-phones-scaled.jpg
END:VEVENT
END:VCALENDAR