BEGIN:VCALENDAR
VERSION:2.0
PRODID:-//Verein(t) für Wittichenau e.V. - ECPv6.15.20//NONSGML v1.0//EN
CALSCALE:GREGORIAN
METHOD:PUBLISH
X-WR-CALNAME:Verein(t) für Wittichenau e.V.
X-ORIGINAL-URL:https://jakubetzstift.de
X-WR-CALDESC:Veranstaltungen für Verein(t) für Wittichenau e.V.
REFRESH-INTERVAL;VALUE=DURATION:PT1H
X-Robots-Tag:noindex
X-PUBLISHED-TTL:PT1H
BEGIN:VTIMEZONE
TZID:Europe/Berlin
BEGIN:DAYLIGHT
TZOFFSETFROM:+0100
TZOFFSETTO:+0200
TZNAME:CEST
DTSTART:20250330T010000
END:DAYLIGHT
BEGIN:STANDARD
TZOFFSETFROM:+0200
TZOFFSETTO:+0100
TZNAME:CET
DTSTART:20251026T010000
END:STANDARD
BEGIN:DAYLIGHT
TZOFFSETFROM:+0100
TZOFFSETTO:+0200
TZNAME:CEST
DTSTART:20260329T010000
END:DAYLIGHT
BEGIN:STANDARD
TZOFFSETFROM:+0200
TZOFFSETTO:+0100
TZNAME:CET
DTSTART:20261025T010000
END:STANDARD
BEGIN:DAYLIGHT
TZOFFSETFROM:+0100
TZOFFSETTO:+0200
TZNAME:CEST
DTSTART:20270328T010000
END:DAYLIGHT
BEGIN:STANDARD
TZOFFSETFROM:+0200
TZOFFSETTO:+0100
TZNAME:CET
DTSTART:20271031T010000
END:STANDARD
END:VTIMEZONE
BEGIN:VEVENT
DTSTART;TZID=Europe/Berlin:20260526T190000
DTEND;TZID=Europe/Berlin:20260526T210000
DTSTAMP:20260423T063814
CREATED:20251207T170646Z
LAST-MODIFIED:20260115T202133Z
UID:10002198-1779822000-1779829200@jakubetzstift.de
SUMMARY:Vortrag: Das Zeitalter der Desinformation
DESCRIPTION:Wie Algorithmen\, KI und Desinformationskampagnen die politische Mobilisierung verändern \nVortrag und Diskussion mit Dr. Felix Schilk \nBei Desinformation handelt es sich um Informationen\, die bewusst verbreitet werden\, um Menschen und die Öffentlichkeit zu täuschen. Vor allem rechtsextreme Medien und Parteien setzen Desinformation seit vielen Jahren strategisch ein\, um politische Gegner zu diffamieren und Debattenräume zu besetzen. Dabei treffen sie oft auf bereitwillige Multiplikator/innen\, die sie bei der Verbreitung unterstützen. \nIm US-amerikanischen Präsidentschaftswahlkampf wurden Desinformationen genutzt\, um systematisch Misstrauen in die Zuverlässigkeit des Wahlprozesses zu erzeugen. Die russischen Staats- und Propagandamedien fluten die Sozialen Netzwerke seit Beginn der Vollinvasion in der Ukraine verstärkt mit Erzählungen\, die gesellschaftliche Polarisierung anheizen\, Konflikte instrumentalisieren und den Glauben an Verschwörungserzählungen verstärken. Im Vortrag werden die Mechanismen von derartigen Desinformationskampagnen analysiert und diskutiert\, wie demokratische Gesellschaften mit dieser Herausforderung umgehen können. \nDr. Felix Schilk\, geb. in Freiberg\, Soziologe an der Universität Tübingen. Arbeitsschwerpunkte: Politische Soziologie\, Rechtsextremismus\, Antisemitismus und Verschwörungstheorien. \nEine Veranstaltung mit der Volkshochschule Hoyerswerda und der Sächsischen Landeszentrale für politische Bildung
URL:https://jakubetzstift.de/veranstaltung/vortrag-desinformation/
LOCATION:Jakubetzstift\, Bautzener Straße 30\, Wittichenau\, Sachsen\, 02997\, Deutschland
ATTACH;FMTTYPE=image/jpeg:https://jakubetzstift.de/wp-content/uploads/2502_Desinformation.jpg
END:VEVENT
END:VCALENDAR