BEGIN:VCALENDAR
VERSION:2.0
PRODID:-//Verein(t) für Wittichenau e.V. - ECPv6.15.20//NONSGML v1.0//EN
CALSCALE:GREGORIAN
METHOD:PUBLISH
X-WR-CALNAME:Verein(t) für Wittichenau e.V.
X-ORIGINAL-URL:https://jakubetzstift.de
X-WR-CALDESC:Veranstaltungen für Verein(t) für Wittichenau e.V.
REFRESH-INTERVAL;VALUE=DURATION:PT1H
X-Robots-Tag:noindex
X-PUBLISHED-TTL:PT1H
BEGIN:VTIMEZONE
TZID:Europe/Berlin
BEGIN:DAYLIGHT
TZOFFSETFROM:+0100
TZOFFSETTO:+0200
TZNAME:CEST
DTSTART:20250330T010000
END:DAYLIGHT
BEGIN:STANDARD
TZOFFSETFROM:+0200
TZOFFSETTO:+0100
TZNAME:CET
DTSTART:20251026T010000
END:STANDARD
BEGIN:DAYLIGHT
TZOFFSETFROM:+0100
TZOFFSETTO:+0200
TZNAME:CEST
DTSTART:20260329T010000
END:DAYLIGHT
BEGIN:STANDARD
TZOFFSETFROM:+0200
TZOFFSETTO:+0100
TZNAME:CET
DTSTART:20261025T010000
END:STANDARD
BEGIN:DAYLIGHT
TZOFFSETFROM:+0100
TZOFFSETTO:+0200
TZNAME:CEST
DTSTART:20270328T010000
END:DAYLIGHT
BEGIN:STANDARD
TZOFFSETFROM:+0200
TZOFFSETTO:+0100
TZNAME:CET
DTSTART:20271031T010000
END:STANDARD
END:VTIMEZONE
BEGIN:VEVENT
DTSTART;TZID=Europe/Berlin:20260617T163000
DTEND;TZID=Europe/Berlin:20260617T193000
DTSTAMP:20260423T082904
CREATED:20260124T195918Z
LAST-MODIFIED:20260124T195918Z
UID:10002497-1781713800-1781724600@jakubetzstift.de
SUMMARY:Laser-Workshop: Blumenaufsteller - Zeitlose Deko aus Holz & Natur
DESCRIPTION:ab 12 Jahre oder in Begleitung eines Erwachsenen\ngeeignet für Anfänger und Fortgeschrittene \nFehlt dir noch eine schöne Deko\, die fast das ganze Jahr stehen bleiben kann?\nDann sei bei diesem Workshop dabei! \nWir erstellen individuelle Aufsteller aus gelaserten Blumen und ausgewählten Holz-Stücken. Jedes Teil wird ein Einzelstück. Dabei könnt ihr eure kreativen Ideen mit dem Lasercutter umsetzen! \nDas Angebot ist geeignet für alle ab 12 Jahren. Jüngere Teilnehmende sind herzlich willkommen\, wenn sie in Begleitung eines Erwachsenen kommen. Material wird gegen eine Spende bereitgestellt. \n  \nTeilnehmerbeitrag: 10€ in bar mitbringen \nWenn du dich schon einmal über unseren Laser informieren willst\, kannst du dir im Vorfeld dieses Einführungsvideo anschauen: Hier geht’s zum Video. \n  \nInfos zu den Kosten \nDas Digitallabor gibt es nur dank engagierter Ehrenamtlicher. Thematische Workshops und Kurse kosten einen Teilnehmerbeitrag für Material und Aufwand. Spenden sind jederzeit herzlich willkommen. \nIch will mehr! \nWir bieten immer wieder thematische Workshops an\, zu denen man sich anmelden kann. Sei gerne mit dabei und erweitere deine Fähigkeiten. Ansonsten komm gerne in der offenen Werkstatt vorbei – immer Anfang des Monats. \n 
URL:https://jakubetzstift.de/veranstaltung/laser-workshop-blumenaufsteller-zeitlose-deko-aus-holz-natur/
LOCATION:Jakubetzstift\, Bautzener Straße 30\, Wittichenau\, Sachsen\, 02997\, Deutschland
CATEGORIES:Digitallabor
ATTACH;FMTTYPE=image/jpeg:https://jakubetzstift.de/wp-content/uploads/il_fullxfull.5733658984_rojj-scaled.jpg
END:VEVENT
END:VCALENDAR