BEGIN:VCALENDAR
VERSION:2.0
PRODID:-//Verein(t) für Wittichenau e.V. - ECPv6.15.20//NONSGML v1.0//EN
CALSCALE:GREGORIAN
METHOD:PUBLISH
X-ORIGINAL-URL:https://jakubetzstift.de
X-WR-CALDESC:Veranstaltungen für Verein(t) für Wittichenau e.V.
REFRESH-INTERVAL;VALUE=DURATION:PT1H
X-Robots-Tag:noindex
X-PUBLISHED-TTL:PT1H
BEGIN:VTIMEZONE
TZID:Europe/Berlin
BEGIN:DAYLIGHT
TZOFFSETFROM:+0100
TZOFFSETTO:+0200
TZNAME:CEST
DTSTART:20250330T010000
END:DAYLIGHT
BEGIN:STANDARD
TZOFFSETFROM:+0200
TZOFFSETTO:+0100
TZNAME:CET
DTSTART:20251026T010000
END:STANDARD
BEGIN:DAYLIGHT
TZOFFSETFROM:+0100
TZOFFSETTO:+0200
TZNAME:CEST
DTSTART:20260329T010000
END:DAYLIGHT
BEGIN:STANDARD
TZOFFSETFROM:+0200
TZOFFSETTO:+0100
TZNAME:CET
DTSTART:20261025T010000
END:STANDARD
BEGIN:DAYLIGHT
TZOFFSETFROM:+0100
TZOFFSETTO:+0200
TZNAME:CEST
DTSTART:20270328T010000
END:DAYLIGHT
BEGIN:STANDARD
TZOFFSETFROM:+0200
TZOFFSETTO:+0100
TZNAME:CET
DTSTART:20271031T010000
END:STANDARD
END:VTIMEZONE
BEGIN:VEVENT
DTSTART;TZID=Europe/Berlin:20260629T170000
DTEND;TZID=Europe/Berlin:20260629T183000
DTSTAMP:20260423T083316
CREATED:20251130T194740Z
LAST-MODIFIED:20251130T194937Z
UID:10002184-1782752400-1782757800@jakubetzstift.de
SUMMARY:Fit Digital: Mit dem Handy ans Ziel - Apps zur Navigation
DESCRIPTION:Heute bei Fit Digital:\nIn diesem Angebot zeigen wir dir\, wie du Navigations-Apps fürs Auto\, Fahrrad oder Wandern sicher nutzt. Wir erklären dir Schritt für Schritt\, wie du Ziele eingibst\, Routen planst und dich unterwegs orientierst. Außerdem sprechen wir darüber\, wie du deine Daten schützt und welche Einstellungen wichtig sind. So findest du dich sicher zurecht und nutzt dein Smartphone als zuverlässigen Begleiter unterwegs. \nHier geht’s zu allen Terminen & Themen bei Fit Digital \n  \nUnsere Fit-Digital-Reihe: \nDie Fit-Digital-Kurse machen euch fit im souveränen Umgang mit eurem Smartphone oder Tablet und mit digitalen Werkzeugen. Für Einsteiger und Fortgeschrittene wird Wissen rund um grundlegende Technologien\, Apps und sichere Mediennutzung vermittelt. Natürlich ist auch immer Zeit für individuelle Fragen und aktives Ausprobieren. \n  \nEine Veranstaltung in Kooperation mit dem Mediennetzwerk Lausitz\nBringt gern euer eigenes Endgerät mit.
URL:https://jakubetzstift.de/veranstaltung/fit-digital-mit-dem-handy-ans-ziel-navigationsapps/
LOCATION:Jakubetzstift\, Bautzener Straße 30\, Wittichenau\, Sachsen\, 02997\, Deutschland
CATEGORIES:Digitallabor,Fit Digital
ATTACH;FMTTYPE=image/jpeg:https://jakubetzstift.de/wp-content/uploads/Hands-using-mobile-apps-in-phones-scaled.jpg
END:VEVENT
END:VCALENDAR