BEGIN:VCALENDAR
VERSION:2.0
PRODID:-//Verein(t) für Wittichenau e.V. - ECPv6.15.20//NONSGML v1.0//EN
CALSCALE:GREGORIAN
METHOD:PUBLISH
X-WR-CALNAME:Verein(t) für Wittichenau e.V.
X-ORIGINAL-URL:https://jakubetzstift.de
X-WR-CALDESC:Veranstaltungen für Verein(t) für Wittichenau e.V.
REFRESH-INTERVAL;VALUE=DURATION:PT1H
X-Robots-Tag:noindex
X-PUBLISHED-TTL:PT1H
BEGIN:VTIMEZONE
TZID:Europe/Berlin
BEGIN:DAYLIGHT
TZOFFSETFROM:+0100
TZOFFSETTO:+0200
TZNAME:CEST
DTSTART:20250330T010000
END:DAYLIGHT
BEGIN:STANDARD
TZOFFSETFROM:+0200
TZOFFSETTO:+0100
TZNAME:CET
DTSTART:20251026T010000
END:STANDARD
BEGIN:DAYLIGHT
TZOFFSETFROM:+0100
TZOFFSETTO:+0200
TZNAME:CEST
DTSTART:20260329T010000
END:DAYLIGHT
BEGIN:STANDARD
TZOFFSETFROM:+0200
TZOFFSETTO:+0100
TZNAME:CET
DTSTART:20261025T010000
END:STANDARD
BEGIN:DAYLIGHT
TZOFFSETFROM:+0100
TZOFFSETTO:+0200
TZNAME:CEST
DTSTART:20270328T010000
END:DAYLIGHT
BEGIN:STANDARD
TZOFFSETFROM:+0200
TZOFFSETTO:+0100
TZNAME:CET
DTSTART:20271031T010000
END:STANDARD
END:VTIMEZONE
BEGIN:VEVENT
DTSTART;TZID=Europe/Berlin:20260721T100000
DTEND;TZID=Europe/Berlin:20260721T120000
DTSTAMP:20260423T102027
CREATED:20260201T195418Z
LAST-MODIFIED:20260201T195506Z
UID:10002515-1784628000-1784635200@jakubetzstift.de
SUMMARY:Druck dir Action! Bewegliche 3D‑Tiere und Figuren
DESCRIPTION:Kurs für Kinder ab 11 Jahre\n\nErlebe einen spannenden Einstieg in die Welt des 3D‑Drucks!\nIn diesem Ferienkurs druckst du coole Tiere und Figuren\, die sich wirklich bewegen können.\nDu suchst dir deine Lieblingsmodelle aus Online‑Bibliotheken aus – schnell\, einfach und ohne Vorkenntnisse.\nWir zeigen dir\, wie du die Dateien vorbereitest und worauf du beim Drucken achten musst.\nDann startet die Action: Stück für Stück entsteht dein eigenes bewegliches 3D‑Tier.\nAm Ende nimmst du deine fertigen Figuren stolz mit nach Hause.\nMach mit und entdecke\, wie viel Spaß 3D‑Druck machen kann!\n\n  \nFalls du schon vorher wissen willst\, wie es geht: Schau dir unser Video-Tutorial an. \n Hier geht’s zum Video. \n  \nWas kostet das alles? \nFür die genutzten Materialien\, die Betriebskosten und weitere Aufwendungen fällt ein kleiner Beitrag an.\nDer überwiegende Teil der Kosten wird über Fördergelder gedeckt. Daher sind Spenden jederzeit herzlich willkommen. \n 
URL:https://jakubetzstift.de/veranstaltung/druck-dir-action-bewegliche-3d-tiere-und-figuren/
LOCATION:Jakubetzstift\, Bautzener Straße 30\, Wittichenau\, Sachsen\, 02997\, Deutschland
CATEGORIES:Digitallabor,Einführungskurse
END:VEVENT
END:VCALENDAR