BEGIN:VCALENDAR
VERSION:2.0
PRODID:-//Verein(t) für Wittichenau e.V. - ECPv6.15.20//NONSGML v1.0//EN
CALSCALE:GREGORIAN
METHOD:PUBLISH
X-WR-CALNAME:Verein(t) für Wittichenau e.V.
X-ORIGINAL-URL:https://jakubetzstift.de
X-WR-CALDESC:Veranstaltungen für Verein(t) für Wittichenau e.V.
REFRESH-INTERVAL;VALUE=DURATION:PT1H
X-Robots-Tag:noindex
X-PUBLISHED-TTL:PT1H
BEGIN:VTIMEZONE
TZID:Europe/Berlin
BEGIN:DAYLIGHT
TZOFFSETFROM:+0100
TZOFFSETTO:+0200
TZNAME:CEST
DTSTART:20240331T010000
END:DAYLIGHT
BEGIN:STANDARD
TZOFFSETFROM:+0200
TZOFFSETTO:+0100
TZNAME:CET
DTSTART:20241027T010000
END:STANDARD
BEGIN:DAYLIGHT
TZOFFSETFROM:+0100
TZOFFSETTO:+0200
TZNAME:CEST
DTSTART:20250330T010000
END:DAYLIGHT
BEGIN:STANDARD
TZOFFSETFROM:+0200
TZOFFSETTO:+0100
TZNAME:CET
DTSTART:20251026T010000
END:STANDARD
BEGIN:DAYLIGHT
TZOFFSETFROM:+0100
TZOFFSETTO:+0200
TZNAME:CEST
DTSTART:20260329T010000
END:DAYLIGHT
BEGIN:STANDARD
TZOFFSETFROM:+0200
TZOFFSETTO:+0100
TZNAME:CET
DTSTART:20261025T010000
END:STANDARD
END:VTIMEZONE
BEGIN:VEVENT
DTSTART;TZID=Europe/Berlin:20251201T173000
DTEND;TZID=Europe/Berlin:20251201T203000
DTSTAMP:20260423T102123
CREATED:20250915T182043Z
LAST-MODIFIED:20250915T182043Z
UID:10002117-1764610200-1764621000@jakubetzstift.de
SUMMARY:Nähkränzel
DESCRIPTION:Das Nähkränzel lädt jeden 1. und 3. Montag im Monat zu einem gemeinsamen Nähtreffen ein. Es können eigene Nähprojekte in entspannter Runde realisiert\, Ideen und Anregungen geteilt sowie Erfahrungen rund ums Nähen ausgetauscht werden. Das Treffen richtet sich an alle\, die bereits erste Näherfahrungen mitbringen und Freude am kreativen Arbeiten in der Gemeinschaft haben. \nAlle sind herzlich eingeladen\, in kreativer Atmosphäre zu nähen und sich inspirieren zu lassen. \nBitte mitbringen: \n\nStoffe\neigene Nähutensilien und Nähkorb\n2 € Gebühr für die Raumnutzung\n\nDie eigene Nähmaschine mitzubringen ist optional; vor Ort sind Nähmaschinen vorhanden. Eine Auswahl an Web- und Jerseystoffen\, Bändern und Knöpfen steht zur Verfügung und kann gegen eine Spende genutzt werden. \nBei Fragen zum Nähkränzel gern eine E-Mail an ines.michler@jakubetzstift.de senden.
URL:https://jakubetzstift.de/veranstaltung/naehkraenzel-17/
LOCATION:Jakubetzstift\, Bautzener Straße 30\, Wittichenau\, Sachsen\, 02997\, Deutschland
ATTACH;FMTTYPE=image/jpeg:https://jakubetzstift.de/wp-content/uploads/Titel-Naehkraenzel-1-scaled.jpg
END:VEVENT
BEGIN:VEVENT
DTSTART;TZID=Europe/Berlin:20251204T163000
DTEND;TZID=Europe/Berlin:20251204T220000
DTSTAMP:20260423T102123
CREATED:20241216T135819Z
LAST-MODIFIED:20260410T112321Z
UID:10001235-1764865800-1764885600@jakubetzstift.de
SUMMARY:Offene Werkstatt im Digitallabor
DESCRIPTION:Für Neueinsteiger und Technik-Nerds \nKomm vorbei und tüftle!\nEinmal im Monat von 16:30 – 22 Uhr gibt es im Digitallabor die offene Werkstatt. Hier kannst du unter Anleitung deine Ideen umsetzen. Es gibt einen Lasercutter\, Plotter\, zwei 3D-Drucker\, einen Vakuumformer und eine Transferpresse. Damit kannst du beispielsweise Ersatzteile drucken\, T-Shirts gestalten\, Deko basteln oder Schilder lasern. Die neuen Hightech-Werkzeuge bieten ungeahnte Möglichkeiten. \n  \nWas muss ich können? Brauche ich Vorerfahrung? \nDas Digitallabor ist offen für alle und jeden. Du brauchst keinerlei Vorerfahrung oder Kenntnisse. Komm einfach zur offenen Werkstatt vorbei. Wir versuchen dir so gut es geht bei deiner Idee zu helfen\, so dass du dein Projekt in die Tat umsetzen kannst. \nKinder können sehr gerne in Begleitung eines Erwachsenen tüfteln. \n  \nEs gibt regelmäßig Einführungskurse an allen Maschinen sowie thematische Workshops\, zu denen man sich anmelden kann. Nach Absolvieren eines Einführungskurses und mit etwas Übung\, kann man die Technik im Digitallabor während der offenen Werkstatt selbstständig nutzen. \n  \nWas kostet das alles? \nDie Nutzung des Digitallabors ist grundsätzlich kostenlos. Für Materialien die du von uns verwendest sowie für Strom und Wartung\, freuen wir uns über eine Spende. Je nachdem wie viel von unserem Material du verwendest\, kannst du mit 1-5€ pro „Projekt“ rechnen. Mehr ist natürlich immer gerne gesehen 😉 \nNatürlich kannst du auch dein eigenes Material mitbringen. Sprich uns gerne an\, wenn du Hilfe bei der Materialauswahl brauchst.
URL:https://jakubetzstift.de/veranstaltung/offene-werkstatt-im-digitallabor-2/2025-12-04/
LOCATION:Jakubetzstift\, Bautzener Straße 30\, Wittichenau\, Sachsen\, 02997\, Deutschland
CATEGORIES:Digitallabor,Offene Werkstatt
ATTACH;FMTTYPE=image/jpeg:https://jakubetzstift.de/wp-content/uploads/Offene-Werkstatt-Instagram-Post-e1724147062313.jpg
END:VEVENT
BEGIN:VEVENT
DTSTART;TZID=Europe/Berlin:20251204T170000
DTEND;TZID=Europe/Berlin:20251204T200000
DTSTAMP:20260423T102123
CREATED:20250808T140223Z
LAST-MODIFIED:20251201T212337Z
UID:10002047-1764867600-1764878400@jakubetzstift.de
SUMMARY:Singeabend
DESCRIPTION:„Glockenklang aus der Ferne“\, „In der Weihnachtsbäckerei“ und „Wir sagen euch an den lieben Advent“ – mit gemeinsam gesungenen Liedern wollen wir uns in Vorweihnachts-stimmung bringen. Musikerinnen und Musiker aus Wittichenau stimmen an und begleiten auf ihren Instrumenten. Dazu schenken wir Kinderpunsch und Glühwein aus. Weitere Musikerinnen und Instrumentalisten sind willkommen.
URL:https://jakubetzstift.de/veranstaltung/singeabend-2/
LOCATION:Jakubetzstift\, Bautzener Straße 30\, Wittichenau\, Sachsen\, 02997\, Deutschland
ATTACH;FMTTYPE=image/png:https://jakubetzstift.de/wp-content/uploads/gitarre.png
END:VEVENT
BEGIN:VEVENT
DTSTART;TZID=Europe/Berlin:20251205T190000
DTEND;TZID=Europe/Berlin:20251205T203000
DTSTAMP:20260423T102123
CREATED:20250720T091332Z
LAST-MODIFIED:20250720T091332Z
UID:10002043-1764961200-1764966600@jakubetzstift.de
SUMMARY:Künstliche Intelligenz – Wie Maschinen unser Leben verändern
DESCRIPTION:mit dem Medien-Dozenten und Journalisten Daniel Lehmann \nKünstliche Intelligenz ist längst mehr als ein Zukunftsversprechen – sie steckt bereits heute in Navigationssystemen\, Sprachassistenten\, Social Media und moderner Medizin. In dieser Veranstaltung werfen wir einen verständlichen und kritischen Blick hinter die Kulissen der KI: Was kann sie wirklich\, was (noch) nicht? Welche Entwicklungen sind faszinierend\, welche beängstigend? Und wie verändert sie unsere Gesellschaft – vom täuschend echten Deep Fake über autonome Fahrzeuge bis hin zu persönlichen Beziehungen mit Chatbots? \nFreuen Sie sich auf spannende Impulse\, praxisnahe Beispiele und Raum für Diskussion. \nEintritt frei – Spenden erwünscht!
URL:https://jakubetzstift.de/veranstaltung/kuenstliche-intelligenz-wie-maschinen-unser-leben-veraendern/
LOCATION:Jakubetzstift\, Bautzener Straße 30\, Wittichenau\, Sachsen\, 02997\, Deutschland
ATTACH;FMTTYPE=image/png:https://jakubetzstift.de/wp-content/uploads/ChatGPT-Image-20.-Juli-2025-11_13_13.png
END:VEVENT
BEGIN:VEVENT
DTSTART;TZID=Europe/Berlin:20251206T130000
DTEND;TZID=Europe/Berlin:20251206T180000
DTSTAMP:20260423T102123
CREATED:20251005T105211Z
LAST-MODIFIED:20251111T185236Z
UID:10002131-1765026000-1765044000@jakubetzstift.de
SUMMARY:Ausstellung: Historische Aufnahmen aus dem Wittichenauer Pfarrarchiv
DESCRIPTION:In dieser Ausstellung werden Reproduktionen historischer Aufnahmen aus dem katholischen Pfarrarchiv gezeigt. Christoph Hentschel hat die Bilder im Rahmen des Projektes „Bild- und Textarchiv Wittichenau“ digitalisiert und aufwendig nachbearbeitet. Ausgestellt sind Fotos aus der Baugeschichte der Pfarrkirche\, aus dem Gemeindeleben und die ältesten Bilder unserer Stadt.\n\nÖffnungszeiten:\nSamstag\, 06.12.2025 von 13 bis 18 Uhr\nSonntag\, 07.12.2025 von 10 bis 18 Uhr\n\nDie Ausstellung basiert rein auf ehrenamtlicher Arbeit. Der Eintritt ist frei. Eine Spende für den Erhalt des Jakubetzstiftes ist erbeten.
URL:https://jakubetzstift.de/veranstaltung/ausstellung-historische-aufnahmen-wittichenauer-pfarrarchiv/
LOCATION:Jakubetzstift\, Bautzener Straße 30\, Wittichenau\, Sachsen\, 02997\, Deutschland
ATTACH;FMTTYPE=image/jpeg:https://jakubetzstift.de/wp-content/uploads/Pfarrkirche.jpg
END:VEVENT
BEGIN:VEVENT
DTSTART;TZID=Europe/Berlin:20251207T100000
DTEND;TZID=Europe/Berlin:20251207T180000
DTSTAMP:20260423T102123
CREATED:20251111T185326Z
LAST-MODIFIED:20251111T185326Z
UID:10002178-1765101600-1765130400@jakubetzstift.de
SUMMARY:Ausstellung: Historische Aufnahmen aus dem Wittichenauer Pfarrarchiv
DESCRIPTION:In dieser Ausstellung werden Reproduktionen historischer Aufnahmen aus dem katholischen Pfarrarchiv gezeigt. Christoph Hentschel hat die Bilder im Rahmen des Projektes „Bild- und Textarchiv Wittichenau“ digitalisiert und aufwendig nachbearbeitet. Ausgestellt sind Fotos aus der Baugeschichte der Pfarrkirche\, aus dem Gemeindeleben und die ältesten Bilder unserer Stadt.\n\nÖffnungszeiten:\nSamstag\, 06.12.2025 von 13 bis 18 Uhr\nSonntag\, 07.12.2025 von 10 bis 18 Uhr\n\nDie Ausstellung basiert rein auf ehrenamtlicher Arbeit. Der Eintritt ist frei. Eine Spende für den Erhalt des Jakubetzstiftes ist erbeten.
URL:https://jakubetzstift.de/veranstaltung/ausstellung-historische-aufnahmen-aus-dem-wittichenauer-pfarrarchiv/
LOCATION:Jakubetzstift\, Bautzener Straße 30\, Wittichenau\, Sachsen\, 02997\, Deutschland
ATTACH;FMTTYPE=image/jpeg:https://jakubetzstift.de/wp-content/uploads/Pfarrkirche.jpg
END:VEVENT
BEGIN:VEVENT
DTSTART;TZID=Europe/Berlin:20251208T190000
DTEND;TZID=Europe/Berlin:20251208T210000
DTSTAMP:20260423T102123
CREATED:20250609T085554Z
LAST-MODIFIED:20251206T193007Z
UID:10001883-1765220400-1765227600@jakubetzstift.de
SUMMARY:ABGESAGT: 3D-Druck Kurs (Einsteiger & Fortgeschrittene)
DESCRIPTION:Dieser Kurs richtet sich sowohl an Einsteiger\, die den 3D-Druck einmal ausprobieren wollen\, als auch an Fortgeschrittene\, die ihre Kenntnisse vertiefen oder um bestimme Anwendungen erweitern möchten. Meldet euch ggf. vorher bei uns\, wenn ihr spezielle Wünsche habt.  \n  \nDer 3D-Drucker erstellt einen dreidimensionalen Gegenstand aus einem schnell aushärtenden Kunststoff. Damit kannst Du Ersatzteile\, Prototypen oder auch einfach Schnickschnack drucken. \nBeim 3D-Druck wird ein Kunststofffaden (Filament) erhitzt\, aufgeschmolzen und Schicht für Schicht aufgetragen. Durch den automatischen Aufbau einer Stützstruktur können selbst Überhänge problemlos gedruckt werden. Das 3D-Modell muss im STL-Dateiformat vorliegen. \nZur Vorbereitung gibt es ein Video-Tutorial\, das du dir im Vorfeld des Kurses ansehen solltest. Hier geht’s zum Video. \n  \nWo und Wann? \nEinmal im Monat kannst du an unseren Geräten im Digitallabor einen Einführungskurs mitmachen.\nEs gibt aktuell Kurse am Lasercutter\, Plotter\, 3D-Drucker und Transferpresse. Damit kannst du beispielsweise Ersatzteile drucken\, T-Shirts gestalten\, Deko basteln oder Schilder lasern. Die neuen Hightech-Werkzeuge bieten ungeahnte Möglichkeiten. \nEine Übersicht der Termine findest du hier. \nWozu ein Einführungskurs? \nNach Absolvieren eines Einführungskurses und mit etwas Übung\, kann man die Technik im Digitallabor während der offenen Werkstatt selbstständig nutzen oder auch eigene Angebote für andere machen. \nIch will mehr! \nWir bieten zusätzlich immer wieder thematische Workshops an\, zu denen man sich ebenfalls anmelden kann. Sei gerne mit dabei und erweitere deine Fähigkeiten. \nWas kostet das alles? \nFür die genutzten Materialien\, die Betriebskosten und weitere Aufwendungen fällt ein kleiner Beitrag an.\nDer überwiegende Teil der Kosten wird über Fördergelder gedeckt. Daher sind Spenden jederzeit herzlich willkommen. \n 
URL:https://jakubetzstift.de/veranstaltung/3d-druck-kurs-einsteiger-fortgeschrittene/
LOCATION:Jakubetzstift\, Bautzener Straße 30\, Wittichenau\, Sachsen\, 02997\, Deutschland
CATEGORIES:Digitallabor,Einführungskurse
ATTACH;FMTTYPE=image/png:https://jakubetzstift.de/wp-content/uploads/Einfuehrungskurs-3D-Druck-Banner.png
END:VEVENT
BEGIN:VEVENT
DTSTART;TZID=Europe/Berlin:20251211T170000
DTEND;TZID=Europe/Berlin:20251211T190000
DTSTAMP:20260423T102123
CREATED:20250612T114520Z
LAST-MODIFIED:20260327T221118Z
UID:10001900-1765472400-1765479600@jakubetzstift.de
SUMMARY:Bürosprechzeit im Jakubetzstift
DESCRIPTION:Wir sind für euch da: Alle 14 Tage donnerstags (gerade Kalenderwochen)\, 17:00–19:00 Uhr. \nWährend der Bürosprechzeit könnt ihr: \n\nFragen rund um Veranstaltungen und Hausnutzung klären\nRaumbuchungen und Busanmietungen anfragen\neuch für Veranstaltungen anmelden\nFragen und Anregungen loswerden\nIdeen einbringen oder ehrenamtliches Engagement besprechen\n\nKommt einfach vorbei – eine Anmeldung ist nicht erforderlich.
URL:https://jakubetzstift.de/veranstaltung/buerosprechzeit-im-jakubetzstift/2025-12-11/
LOCATION:Jakubetzstift\, Bautzener Straße 30\, Wittichenau\, Sachsen\, 02997\, Deutschland
CATEGORIES:Bürosprechzeiten
END:VEVENT
BEGIN:VEVENT
DTSTART;TZID=Europe/Berlin:20251211T180000
DTEND;TZID=Europe/Berlin:20251211T190000
DTSTAMP:20260423T102123
CREATED:20251205T123931Z
LAST-MODIFIED:20251205T150228Z
UID:10002196-1765476000-1765479600@jakubetzstift.de
SUMMARY:Wie entstehen Lokalnachrichten? - Mit den Machern der "Lausitzwelle"
DESCRIPTION:Gespräch mit Redaktionsleiterin Franziska Kleemann (Lausitzwelle)\nModeration: Dirk Lienig (KuFa Hoyerswerda) \nDurchblick im Mediendschungel?!\nViele neue und alte Medien erzählen uns täglich\, was in unserer Umgebung und in der Welt passiert. In Deutschland werden sie gemacht von Menschen\, die ihren Wirkungskreis oft in Städten wie Köln \, Berlin oder Hamburg haben. Regionale Berichterstattung ist in den großen Medien fast schon eine Randerscheinung in Anbetracht der weltweiten Krisen\, über die tagtäglich berichtet wird. Doch wie arbeitet eine lokale Redaktion in der Lausitz? Unabhängig und privat finanziert? \nWir laden Sie ein\, eine der Macherinnen kennenzulernen. LAUSITZWELLE Redaktionsleiterin Franziska Kleemann berichtet von täglichen Herausforderungen. Wie wird ein Ereignis eine Nachricht? Wann kommt „das Fernsehen“ ins Dorf ? Wie früh steht der Morning Show Moderator im Radio auf? Stellen Sie gerne auch Ihre Fragen! Wir freuen uns auf Ihr Interesse. \nEintritt frei – Spenden erwünscht! \n  \nEin Angebot in Kooperation mit dem Mediennetzwerk Lausitz\, ein Projekt der Kulturfabrik Hoyerswerda
URL:https://jakubetzstift.de/veranstaltung/durchblick-im-mediendschungel-gespraech-mit-den-machern-der-lausitzwelle/
LOCATION:Jakubetzstift\, Bautzener Straße 30\, Wittichenau\, Sachsen\, 02997\, Deutschland
ATTACH;FMTTYPE=image/png:https://jakubetzstift.de/wp-content/uploads/425297797_1107181393854093_5877494979647486035_n.png
END:VEVENT
BEGIN:VEVENT
DTSTART;TZID=Europe/Berlin:20251212T190000
DTEND;TZID=Europe/Berlin:20251212T203000
DTSTAMP:20260423T102123
CREATED:20251002T171212Z
LAST-MODIFIED:20251002T171212Z
UID:10002129-1765566000-1765571400@jakubetzstift.de
SUMMARY:Adventskonzert mit dem "Chor ohne Namen"
DESCRIPTION:Nach dem gut besuchten Konzert im September lädt der „Chor ohne Namen“ im Advent erneut in die Kreuzkirche zum Konzert – diesmal mit vorweihnachtlichen Liedern. Weitere Infos folgen.
URL:https://jakubetzstift.de/veranstaltung/chor-adventskonzert/
LOCATION:Kreuzkirche
END:VEVENT
BEGIN:VEVENT
DTSTART;TZID=Europe/Berlin:20251215T160000
DTEND;TZID=Europe/Berlin:20251215T210000
DTSTAMP:20260423T102123
CREATED:20250911T203747Z
LAST-MODIFIED:20251119T145603Z
UID:10002099-1765814400-1765832400@jakubetzstift.de
SUMMARY:Offene Adventswerkstatt für Groß & Klein
DESCRIPTION:Plätzchenduft\, Nähmaschinenklang und digitale Ideen für die ganze Familie\n \nWir laden Groß und Klein zu einer gemütlichen Adventswerkstatt im ganzen Haus ein. Mit dabei ist die Nähwerkstatt\, das Digitallabor und das Kochprojekt.\nBesucherinnen und Besucher sind herzlich eingeladen\, Plätzchen zu backen und zu verzieren\, Weihnachtsdekoration zu nähen oder im Digitallabor individuelle Geschenkanhänger und Fensterschmuck zu gestalten. Leise Adventsmelodien sowie warme und kalte Getränke sorgen für eine heimelige Atmosphäre. \nAlle Angebote sind frei zugänglich: Alles auf Spendenbasis und ohne Anmeldung. \nGeeignet für Kinder\, Erwachsene und Familien.
URL:https://jakubetzstift.de/veranstaltung/weihnachts-werkstatt-im-digitallabor/
LOCATION:Jakubetzstift\, Bautzener Straße 30\, Wittichenau\, Sachsen\, 02997\, Deutschland
CATEGORIES:Digitallabor,Kochkurs für Kinder,Offene Werkstatt
ATTACH;FMTTYPE=image/png:https://jakubetzstift.de/wp-content/uploads/Adventswerkstatt-Plakat-2-e1763564111158.png
END:VEVENT
BEGIN:VEVENT
DTSTART;TZID=Europe/Berlin:20251220T170000
DTEND;TZID=Europe/Berlin:20251220T180000
DTSTAMP:20260423T102123
CREATED:20251005T103152Z
LAST-MODIFIED:20251005T103350Z
UID:10002130-1766250000-1766253600@jakubetzstift.de
SUMMARY:Konzert der Musikschüler
DESCRIPTION:Die Musikschülerinnen und -schüler\, die im Wittichenauer Jakubetzstift ein Instrument spielen lernen\, zeigen unter der Leitung von Pavel Klinko bei diesem Konzert ihre Fortschritte. Eingerahmt werden die Auftritte der Musikschüler vom virtuosem Akkordeonspiel von Pavel selbst.
URL:https://jakubetzstift.de/veranstaltung/konzert-der-musikschueler-2/
LOCATION:Bennosaal\, Bautzener Straße 30\, Wittichenau\, Sachsen\, 02997\, Deutschland
ATTACH;FMTTYPE=image/jpeg:https://jakubetzstift.de/wp-content/uploads/Konzert-1-1.jpg
END:VEVENT
BEGIN:VEVENT
DTSTART;TZID=Europe/Berlin:20251222T190000
DTEND;TZID=Europe/Berlin:20251222T210000
DTSTAMP:20260423T102123
CREATED:20251216T054333Z
LAST-MODIFIED:20251217T061654Z
UID:10002199-1766430000-1766437200@jakubetzstift.de
SUMMARY:Vortrag: "Beten\, lachen\, Maisbrei mampfen – drei Monate in einem tansanischen Waisenhaus"
DESCRIPTION:Michael Domanja aus Hoske und Alena Büttner aus Panschwitz berichten von drei Monaten in einem Waisenhaus in Tansania – mit Eindrücken aus dem Alltag\, persönlichen Erfahrungen und Raum für Fragen und Austausch.
URL:https://jakubetzstift.de/veranstaltung/vortrag-freiwilligendienst-waisenhaus-tansania/
LOCATION:Jakubetzstift\, Bautzener Straße 30\, Wittichenau\, Sachsen\, 02997\, Deutschland
END:VEVENT
BEGIN:VEVENT
DTSTART;TZID=Europe/Berlin:20251229T170000
DTEND;TZID=Europe/Berlin:20251229T183000
DTSTAMP:20260423T102123
CREATED:20250714T145804Z
LAST-MODIFIED:20250714T145945Z
UID:10002041-1767027600-1767033000@jakubetzstift.de
SUMMARY:Fit Digital: Hörbücher\, Podcasts & Musik: Unterhaltung auf dem Smartphone
DESCRIPTION:Heute bei Fit Digital: \nGerade in der dunklen Jahreszeit tut gute Unterhaltung gut! In diesem Kurs zeigen wir dir\, wie du Hörbücher\, Podcasts und Musik ganz einfach auf deinem Smartphone findest und genießt. Ob spannende Geschichten\, interessante Gespräche oder deine Lieblingslieder – wir helfen dir beim Einstieg und Üben direkt am Gerät. \nHier geht’s zu allen Terminen & Themen bei Fit Digital \n  \nUnsere Fit-Digital-Reihe: \nDie Fit-Digital-Kurse machen euch fit im souveränen Umgang mit eurem Smartphone oder Tablet und mit digitalen Werkzeugen. Für Einsteiger und Fortgeschrittene wird Wissen rund um grundlegende Technologien\, Apps und sichere Mediennutzung vermittelt. Natürlich ist auch immer Zeit für individuelle Fragen und aktives Ausprobieren. \n  \nEine Veranstaltung in Kooperation mit dem Mediennetzwerk Lausitz\nBringt gern euer eigenes Endgerät mit.
URL:https://jakubetzstift.de/veranstaltung/fit-digital-hoerbuecher-podcasts-musik-unterhaltung-auf-dem-smartphone/
LOCATION:Jakubetzstift\, Bautzener Straße 30\, Wittichenau\, Sachsen\, 02997\, Deutschland
CATEGORIES:Digitallabor,Fit Digital
ATTACH;FMTTYPE=image/jpeg:https://jakubetzstift.de/wp-content/uploads/Hands-using-mobile-apps-in-phones-scaled.jpg
END:VEVENT
END:VCALENDAR