BEGIN:VCALENDAR
VERSION:2.0
PRODID:-//Verein(t) für Wittichenau e.V. - ECPv6.15.20//NONSGML v1.0//EN
CALSCALE:GREGORIAN
METHOD:PUBLISH
X-WR-CALNAME:Verein(t) für Wittichenau e.V.
X-ORIGINAL-URL:https://jakubetzstift.de
X-WR-CALDESC:Veranstaltungen für Verein(t) für Wittichenau e.V.
REFRESH-INTERVAL;VALUE=DURATION:PT1H
X-Robots-Tag:noindex
X-PUBLISHED-TTL:PT1H
BEGIN:VTIMEZONE
TZID:Europe/Berlin
BEGIN:DAYLIGHT
TZOFFSETFROM:+0100
TZOFFSETTO:+0200
TZNAME:CEST
DTSTART:20250330T010000
END:DAYLIGHT
BEGIN:STANDARD
TZOFFSETFROM:+0200
TZOFFSETTO:+0100
TZNAME:CET
DTSTART:20251026T010000
END:STANDARD
BEGIN:DAYLIGHT
TZOFFSETFROM:+0100
TZOFFSETTO:+0200
TZNAME:CEST
DTSTART:20260329T010000
END:DAYLIGHT
BEGIN:STANDARD
TZOFFSETFROM:+0200
TZOFFSETTO:+0100
TZNAME:CET
DTSTART:20261025T010000
END:STANDARD
BEGIN:DAYLIGHT
TZOFFSETFROM:+0100
TZOFFSETTO:+0200
TZNAME:CEST
DTSTART:20270328T010000
END:DAYLIGHT
BEGIN:STANDARD
TZOFFSETFROM:+0200
TZOFFSETTO:+0100
TZNAME:CET
DTSTART:20271031T010000
END:STANDARD
END:VTIMEZONE
BEGIN:VEVENT
DTSTART;TZID=Europe/Berlin:20260105T173000
DTEND;TZID=Europe/Berlin:20260105T203000
DTSTAMP:20260423T083104
CREATED:20250915T182152Z
LAST-MODIFIED:20250915T182152Z
UID:10002119-1767634200-1767645000@jakubetzstift.de
SUMMARY:Nähkränzel
DESCRIPTION:Das Nähkränzel lädt jeden 1. und 3. Montag im Monat zu einem gemeinsamen Nähtreffen ein. Es können eigene Nähprojekte in entspannter Runde realisiert\, Ideen und Anregungen geteilt sowie Erfahrungen rund ums Nähen ausgetauscht werden. Das Treffen richtet sich an alle\, die bereits erste Näherfahrungen mitbringen und Freude am kreativen Arbeiten in der Gemeinschaft haben. \nAlle sind herzlich eingeladen\, in kreativer Atmosphäre zu nähen und sich inspirieren zu lassen. \nBitte mitbringen: \n\nStoffe\neigene Nähutensilien und Nähkorb\n2 € Gebühr für die Raumnutzung\n\nDie eigene Nähmaschine mitzubringen ist optional; vor Ort sind Nähmaschinen vorhanden. Eine Auswahl an Web- und Jerseystoffen\, Bändern und Knöpfen steht zur Verfügung und kann gegen eine Spende genutzt werden. \nBei Fragen zum Nähkränzel gern eine E-Mail an ines.michler@jakubetzstift.de senden.
URL:https://jakubetzstift.de/veranstaltung/naehkraenzel-19/
LOCATION:Jakubetzstift\, Bautzener Straße 30\, Wittichenau\, Sachsen\, 02997\, Deutschland
ATTACH;FMTTYPE=image/jpeg:https://jakubetzstift.de/wp-content/uploads/Titel-Naehkraenzel-1-scaled.jpg
END:VEVENT
BEGIN:VEVENT
DTSTART;TZID=Europe/Berlin:20260108T170000
DTEND;TZID=Europe/Berlin:20260108T190000
DTSTAMP:20260423T083104
CREATED:20250612T114520Z
LAST-MODIFIED:20260327T221118Z
UID:10001902-1767891600-1767898800@jakubetzstift.de
SUMMARY:Bürosprechzeit im Jakubetzstift
DESCRIPTION:Wir sind für euch da: Alle 14 Tage donnerstags (gerade Kalenderwochen)\, 17:00–19:00 Uhr. \nWährend der Bürosprechzeit könnt ihr: \n\nFragen rund um Veranstaltungen und Hausnutzung klären\nRaumbuchungen und Busanmietungen anfragen\neuch für Veranstaltungen anmelden\nFragen und Anregungen loswerden\nIdeen einbringen oder ehrenamtliches Engagement besprechen\n\nKommt einfach vorbei – eine Anmeldung ist nicht erforderlich.
URL:https://jakubetzstift.de/veranstaltung/buerosprechzeit-im-jakubetzstift/2026-01-08/
LOCATION:Jakubetzstift\, Bautzener Straße 30\, Wittichenau\, Sachsen\, 02997\, Deutschland
CATEGORIES:Bürosprechzeiten
END:VEVENT
BEGIN:VEVENT
DTSTART;TZID=Europe/Berlin:20260109T170000
DTEND;TZID=Europe/Berlin:20260109T190000
DTSTAMP:20260423T083104
CREATED:20251007T090951Z
LAST-MODIFIED:20251129T062055Z
UID:10002158-1767978000-1767985200@jakubetzstift.de
SUMMARY:Aquarell- und Acrylmalen-Lernen für Erwachsene
DESCRIPTION:Schritt für Schritt erlernt ihr mit verschiedenen Techniken das Aquarellmalen als auch die Acrylmalerei. Die Wittichenauer Künstlerin Petra Walter führt euch in diese Kunst ein.\nDer Kurs eignet sich für Einsteiger und Fortgeschrittene. \nKurstermine immer freitags 17:00 bis 19:00 Uhr\nKosten: 2 EUR/ pro Termin \nZeichenmaterial kann selbst mitgebracht werden. Eine Grundausstattung ist vorhanden. \nBei Fragen meldet euch gerne telefonisch oder per E-Mail bei uns. \nEine vorherige Anmeldung ist nicht nötig.\nDer Kurs pausiert in den Sommermonaten und läuft von Oktober bis März.
URL:https://jakubetzstift.de/veranstaltung/aquarell-acryl-malen-kurs/2026-01-09/
LOCATION:Jakubetzstift\, Bautzener Straße 30\, Wittichenau\, Sachsen\, 02997\, Deutschland
ATTACH;FMTTYPE=image/jpeg:https://jakubetzstift.de/wp-content/uploads/es-gibt-drei-baeume-die-in-aquarell-auf-einem-weissen-hintergrund-generative-ai-gemalt-sind_958192-33714.jpg
END:VEVENT
BEGIN:VEVENT
DTSTART;TZID=Europe/Berlin:20260115T093000
DTEND;TZID=Europe/Berlin:20260115T110000
DTSTAMP:20260423T083104
CREATED:20260113T144809Z
LAST-MODIFIED:20260401T192018Z
UID:10002540-1768469400-1768474800@jakubetzstift.de
SUMMARY:Krabbelgruppe (0-3 Jahre)
DESCRIPTION:Gemeinsam Spielen\, sich austauschen\, eine Tasse Tee oder Kaffee trinken. Für Mamas\, Papas und Großeltern mit Kindern zwischen 0-3 Jahre. Wer möchte\, kann gerne auch Fingerspiele und Verse einbringen oder gemeinsam Lieder singen. Angeleitet und Begleitet wird die Gruppe von Barbara Beckel. Wir starten immer mit einem kleinen Lied\, einer Bewegungsgeschichte oder einem Fingerspiel. Danach ist Zeit für Austausch und gemeinsames Spiel. \n  \nDie Babys und Kinder können natürlich auch schlafen. Dann kann die Zeit auch einfach zum Austausch genutzt werden. \n  \nJeden Donnerstag von 9-11 Uhr. Einfach vorbei kommen!\nMan kann während der gesamten Zeit kommen und gehen. Es ist ein offener Treff. \nFür Kaffee\, Tee und Betriebskosten steht eine Spendenbox bereit – wir freuen uns über einen kleinen Beitrag.
URL:https://jakubetzstift.de/veranstaltung/krabbelgruppe-0-3-jahre-4/2026-01-15/
LOCATION:Jakubetzstift\, Bautzener Straße 30\, Wittichenau\, Sachsen\, 02997\, Deutschland
ATTACH;FMTTYPE=image/jpeg:https://jakubetzstift.de/wp-content/uploads/Krabbelgruppe-Plakat-Titelbild-e1744032356793.jpg
END:VEVENT
BEGIN:VEVENT
DTSTART;TZID=Europe/Berlin:20260116T170000
DTEND;TZID=Europe/Berlin:20260116T190000
DTSTAMP:20260423T083104
CREATED:20251007T090951Z
LAST-MODIFIED:20251129T062055Z
UID:10002159-1768582800-1768590000@jakubetzstift.de
SUMMARY:Aquarell- und Acrylmalen-Lernen für Erwachsene
DESCRIPTION:Schritt für Schritt erlernt ihr mit verschiedenen Techniken das Aquarellmalen als auch die Acrylmalerei. Die Wittichenauer Künstlerin Petra Walter führt euch in diese Kunst ein.\nDer Kurs eignet sich für Einsteiger und Fortgeschrittene. \nKurstermine immer freitags 17:00 bis 19:00 Uhr\nKosten: 2 EUR/ pro Termin \nZeichenmaterial kann selbst mitgebracht werden. Eine Grundausstattung ist vorhanden. \nBei Fragen meldet euch gerne telefonisch oder per E-Mail bei uns. \nEine vorherige Anmeldung ist nicht nötig.\nDer Kurs pausiert in den Sommermonaten und läuft von Oktober bis März.
URL:https://jakubetzstift.de/veranstaltung/aquarell-acryl-malen-kurs/2026-01-16/
LOCATION:Jakubetzstift\, Bautzener Straße 30\, Wittichenau\, Sachsen\, 02997\, Deutschland
ATTACH;FMTTYPE=image/jpeg:https://jakubetzstift.de/wp-content/uploads/es-gibt-drei-baeume-die-in-aquarell-auf-einem-weissen-hintergrund-generative-ai-gemalt-sind_958192-33714.jpg
END:VEVENT
BEGIN:VEVENT
DTSTART;TZID=Europe/Berlin:20260119T173000
DTEND;TZID=Europe/Berlin:20260119T203000
DTSTAMP:20260423T083104
CREATED:20250915T182225Z
LAST-MODIFIED:20250915T182359Z
UID:10002120-1768843800-1768854600@jakubetzstift.de
SUMMARY:Nähkränzel
DESCRIPTION:Das Nähkränzel lädt jeden 1. und 3. Montag im Monat zu einem gemeinsamen Nähtreffen ein. Es können eigene Nähprojekte in entspannter Runde realisiert\, Ideen und Anregungen geteilt sowie Erfahrungen rund ums Nähen ausgetauscht werden. Das Treffen richtet sich an alle\, die bereits erste Näherfahrungen mitbringen und Freude am kreativen Arbeiten in der Gemeinschaft haben. \nAlle sind herzlich eingeladen\, in kreativer Atmosphäre zu nähen und sich inspirieren zu lassen. \nBitte mitbringen: \n\nStoffe\neigene Nähutensilien und Nähkorb\n2 € Gebühr für die Raumnutzung\n\nDie eigene Nähmaschine mitzubringen ist optional; vor Ort sind Nähmaschinen vorhanden. Eine Auswahl an Web- und Jerseystoffen\, Bändern und Knöpfen steht zur Verfügung und kann gegen eine Spende genutzt werden. \nBei Fragen zum Nähkränzel gern eine E-Mail an ines.michler@jakubetzstift.de senden.
URL:https://jakubetzstift.de/veranstaltung/naehkraenzel-20/
LOCATION:Jakubetzstift\, Bautzener Straße 30\, Wittichenau\, Sachsen\, 02997\, Deutschland
ATTACH;FMTTYPE=image/jpeg:https://jakubetzstift.de/wp-content/uploads/Titel-Naehkraenzel-1-scaled.jpg
END:VEVENT
BEGIN:VEVENT
DTSTART;TZID=Europe/Berlin:20260122T093000
DTEND;TZID=Europe/Berlin:20260122T110000
DTSTAMP:20260423T083104
CREATED:20260113T144809Z
LAST-MODIFIED:20260401T192018Z
UID:10002541-1769074200-1769079600@jakubetzstift.de
SUMMARY:Krabbelgruppe (0-3 Jahre)
DESCRIPTION:Gemeinsam Spielen\, sich austauschen\, eine Tasse Tee oder Kaffee trinken. Für Mamas\, Papas und Großeltern mit Kindern zwischen 0-3 Jahre. Wer möchte\, kann gerne auch Fingerspiele und Verse einbringen oder gemeinsam Lieder singen. Angeleitet und Begleitet wird die Gruppe von Barbara Beckel. Wir starten immer mit einem kleinen Lied\, einer Bewegungsgeschichte oder einem Fingerspiel. Danach ist Zeit für Austausch und gemeinsames Spiel. \n  \nDie Babys und Kinder können natürlich auch schlafen. Dann kann die Zeit auch einfach zum Austausch genutzt werden. \n  \nJeden Donnerstag von 9-11 Uhr. Einfach vorbei kommen!\nMan kann während der gesamten Zeit kommen und gehen. Es ist ein offener Treff. \nFür Kaffee\, Tee und Betriebskosten steht eine Spendenbox bereit – wir freuen uns über einen kleinen Beitrag.
URL:https://jakubetzstift.de/veranstaltung/krabbelgruppe-0-3-jahre-4/2026-01-22/
LOCATION:Jakubetzstift\, Bautzener Straße 30\, Wittichenau\, Sachsen\, 02997\, Deutschland
ATTACH;FMTTYPE=image/jpeg:https://jakubetzstift.de/wp-content/uploads/Krabbelgruppe-Plakat-Titelbild-e1744032356793.jpg
END:VEVENT
BEGIN:VEVENT
DTSTART;TZID=Europe/Berlin:20260122T140000
DTEND;TZID=Europe/Berlin:20260122T163000
DTSTAMP:20260423T083104
CREATED:20251216T054841Z
LAST-MODIFIED:20251218T064032Z
UID:10002200-1769090400-1769099400@jakubetzstift.de
SUMMARY:Seniorennachmittag
DESCRIPTION:Wir laden jeden vierten Donnerstag im Monat zum Seniorennachmittag ein. Es gibt Kaffee und Gebäck und jeweils einen kleinen Programmpunkt. \nFür die Verköstigung und Raumnutzung erheben wir einen Teilnahmebeitrag von 5 EUR . \nUnser Programm im Januar: Rochus Schleicher zeigt Bilder von Kreuzen\, Denkmalen und Straßenansichten. \n 
URL:https://jakubetzstift.de/veranstaltung/seniorennachmittag-12/
LOCATION:Bennosaal\, Bautzener Straße 30\, Wittichenau\, Sachsen\, 02997\, Deutschland
ATTACH;FMTTYPE=image/png:https://jakubetzstift.de/wp-content/uploads/Seniorennachmittag_Website.png
END:VEVENT
BEGIN:VEVENT
DTSTART;TZID=Europe/Berlin:20260122T170000
DTEND;TZID=Europe/Berlin:20260122T190000
DTSTAMP:20260423T083104
CREATED:20250612T114520Z
LAST-MODIFIED:20260327T221118Z
UID:10001903-1769101200-1769108400@jakubetzstift.de
SUMMARY:Bürosprechzeit im Jakubetzstift
DESCRIPTION:Wir sind für euch da: Alle 14 Tage donnerstags (gerade Kalenderwochen)\, 17:00–19:00 Uhr. \nWährend der Bürosprechzeit könnt ihr: \n\nFragen rund um Veranstaltungen und Hausnutzung klären\nRaumbuchungen und Busanmietungen anfragen\neuch für Veranstaltungen anmelden\nFragen und Anregungen loswerden\nIdeen einbringen oder ehrenamtliches Engagement besprechen\n\nKommt einfach vorbei – eine Anmeldung ist nicht erforderlich.
URL:https://jakubetzstift.de/veranstaltung/buerosprechzeit-im-jakubetzstift/2026-01-22/
LOCATION:Jakubetzstift\, Bautzener Straße 30\, Wittichenau\, Sachsen\, 02997\, Deutschland
CATEGORIES:Bürosprechzeiten
END:VEVENT
BEGIN:VEVENT
DTSTART;TZID=Europe/Berlin:20260123T170000
DTEND;TZID=Europe/Berlin:20260123T190000
DTSTAMP:20260423T083104
CREATED:20251007T090951Z
LAST-MODIFIED:20251129T062055Z
UID:10002160-1769187600-1769194800@jakubetzstift.de
SUMMARY:Aquarell- und Acrylmalen-Lernen für Erwachsene
DESCRIPTION:Schritt für Schritt erlernt ihr mit verschiedenen Techniken das Aquarellmalen als auch die Acrylmalerei. Die Wittichenauer Künstlerin Petra Walter führt euch in diese Kunst ein.\nDer Kurs eignet sich für Einsteiger und Fortgeschrittene. \nKurstermine immer freitags 17:00 bis 19:00 Uhr\nKosten: 2 EUR/ pro Termin \nZeichenmaterial kann selbst mitgebracht werden. Eine Grundausstattung ist vorhanden. \nBei Fragen meldet euch gerne telefonisch oder per E-Mail bei uns. \nEine vorherige Anmeldung ist nicht nötig.\nDer Kurs pausiert in den Sommermonaten und läuft von Oktober bis März.
URL:https://jakubetzstift.de/veranstaltung/aquarell-acryl-malen-kurs/2026-01-23/
LOCATION:Jakubetzstift\, Bautzener Straße 30\, Wittichenau\, Sachsen\, 02997\, Deutschland
ATTACH;FMTTYPE=image/jpeg:https://jakubetzstift.de/wp-content/uploads/es-gibt-drei-baeume-die-in-aquarell-auf-einem-weissen-hintergrund-generative-ai-gemalt-sind_958192-33714.jpg
END:VEVENT
BEGIN:VEVENT
DTSTART;TZID=Europe/Berlin:20260124T090000
DTEND;TZID=Europe/Berlin:20260124T130000
DTSTAMP:20260423T083104
CREATED:20260104T100314Z
LAST-MODIFIED:20260104T100314Z
UID:10002205-1769245200-1769259600@jakubetzstift.de
SUMMARY:Kochkurs für Kinder
DESCRIPTION:Der Kinderkochkurs lädt Kinder ein\, zusammen regionale und saisonale Gerichte zu entdecken und am Ende natürlich gemeinsam zu essen. Vorerfahrungen in der Küche sind dabei nicht notwendig. \n\nGruppengröße: 15 Kinder\n\nBitte mitbringen:\n\neine A4-Mappe für die Rezepte\nfalls vorhanden: eine Kochschürze\nTeilnahmegebühr\n\n\n\nLeitung Kochkurs:\n \nSaskia Schimann & Luzia Schlenstedt (Verein(t) für Wittichenau e.V.) \nAnmeldung:\n \nper Mail an: \n\nsaskia.schimann@gmx.net\noder WhatsApp/SMS an 01577 9794885\n\nBitte gebt bei Anmeldung eine Kontaktnummer an\, damit wir im Notfall anrufen können\, falls ein Kind zum Kurs nicht erscheint. \nMit der Anmeldung erlauben die Erziehungsberechtigten\, dass Fotos beim Kochkurs gemacht werden dürfen – falls dies nicht der Fall ist\, geben sie bitte den Leitenden beim Kochkurs kurz Bescheid\, dass keine Fotos erwünscht sind.
URL:https://jakubetzstift.de/veranstaltung/kochkurs-fuer-kinder-24/
LOCATION:Jakubetzstift\, Bautzener Straße 30\, Wittichenau\, Sachsen\, 02997\, Deutschland
CATEGORIES:Kochkurs für Kinder
ATTACH;FMTTYPE=image/jpeg:https://jakubetzstift.de/wp-content/uploads/Kochkurs.jpg
END:VEVENT
BEGIN:VEVENT
DTSTART;TZID=Europe/Berlin:20260126T170000
DTEND;TZID=Europe/Berlin:20260126T183000
DTSTAMP:20260423T083104
CREATED:20251130T183827Z
LAST-MODIFIED:20251130T183827Z
UID:10002179-1769446800-1769452200@jakubetzstift.de
SUMMARY:Fit Digital: WhatsApp und Co. sicher nutzen
DESCRIPTION:Heute bei Fit Digital:\nIn diesem Angebot zeigen wir dir\, wie du WhatsApp und andere Nachrichten-Apps sicher verwendest. Wir schauen uns gemeinsam die wichtigsten Funktionen an\, zum Beispiel das Schreiben von Nachrichten\, das Verschicken von Bildern oder das Erstellen von Gruppen. Du lernst außerdem\, welche Einstellungen wichtig sind\, wie du deine Daten schützt und wie du eine Sicherung deiner Gespräche machst. So kannst du ohne Sorge Nachrichten\, Bilder und Sprachnachrichten schicken und empfangen. \nHier geht’s zu allen Terminen & Themen bei Fit Digital \n  \nUnsere Fit-Digital-Reihe: \nDie Fit-Digital-Kurse machen euch fit im souveränen Umgang mit eurem Smartphone oder Tablet und mit digitalen Werkzeugen. Für Einsteiger und Fortgeschrittene wird Wissen rund um grundlegende Technologien\, Apps und sichere Mediennutzung vermittelt. Natürlich ist auch immer Zeit für individuelle Fragen und aktives Ausprobieren. \n  \nEine Veranstaltung in Kooperation mit dem Mediennetzwerk Lausitz\nBringt gern euer eigenes Endgerät mit.
URL:https://jakubetzstift.de/veranstaltung/fit-digital-whatsapp-und-co-sicher-nutzen/
LOCATION:Jakubetzstift\, Bautzener Straße 30\, Wittichenau\, Sachsen\, 02997\, Deutschland
CATEGORIES:Digitallabor,Fit Digital
ATTACH;FMTTYPE=image/jpeg:https://jakubetzstift.de/wp-content/uploads/Hands-using-mobile-apps-in-phones-scaled.jpg
END:VEVENT
BEGIN:VEVENT
DTSTART;TZID=Europe/Berlin:20260129T093000
DTEND;TZID=Europe/Berlin:20260129T110000
DTSTAMP:20260423T083104
CREATED:20260113T144809Z
LAST-MODIFIED:20260401T192018Z
UID:10002542-1769679000-1769684400@jakubetzstift.de
SUMMARY:Krabbelgruppe (0-3 Jahre)
DESCRIPTION:Gemeinsam Spielen\, sich austauschen\, eine Tasse Tee oder Kaffee trinken. Für Mamas\, Papas und Großeltern mit Kindern zwischen 0-3 Jahre. Wer möchte\, kann gerne auch Fingerspiele und Verse einbringen oder gemeinsam Lieder singen. Angeleitet und Begleitet wird die Gruppe von Barbara Beckel. Wir starten immer mit einem kleinen Lied\, einer Bewegungsgeschichte oder einem Fingerspiel. Danach ist Zeit für Austausch und gemeinsames Spiel. \n  \nDie Babys und Kinder können natürlich auch schlafen. Dann kann die Zeit auch einfach zum Austausch genutzt werden. \n  \nJeden Donnerstag von 9-11 Uhr. Einfach vorbei kommen!\nMan kann während der gesamten Zeit kommen und gehen. Es ist ein offener Treff. \nFür Kaffee\, Tee und Betriebskosten steht eine Spendenbox bereit – wir freuen uns über einen kleinen Beitrag.
URL:https://jakubetzstift.de/veranstaltung/krabbelgruppe-0-3-jahre-4/2026-01-29/
LOCATION:Jakubetzstift\, Bautzener Straße 30\, Wittichenau\, Sachsen\, 02997\, Deutschland
ATTACH;FMTTYPE=image/jpeg:https://jakubetzstift.de/wp-content/uploads/Krabbelgruppe-Plakat-Titelbild-e1744032356793.jpg
END:VEVENT
BEGIN:VEVENT
DTSTART;TZID=Europe/Berlin:20260129T193000
DTEND;TZID=Europe/Berlin:20260129T203000
DTSTAMP:20260423T083104
CREATED:20260113T152133Z
LAST-MODIFIED:20260113T152230Z
UID:10002485-1769715000-1769718600@jakubetzstift.de
SUMMARY:Vereinsstammtisch - Jahresauftakt 2026
DESCRIPTION:Euer Engagement bereichert das Leben in Wittichenau und den Ortsteilen. Mit euch wollen wir uns zu Terminen und Veranstaltungen im Jahresverlauf abstimmen. Außerdem gibt es einen kurzen Vortrag rund um Finanzen\, Vermietung und Steuerrecht für Vereine. In Anschluss ist natürlich auch Zeit für Austausch und Gemütlichkeit. \nZu dieser Veranstaltung laden wir alle ein\, die sich in einem Verein oder einer Gruppe engagieren\, angefangen von A\, wie Angelverein\, über D\, wie Dorfclub oder Z\, wie Zumba-Gruppe. Außerdem sind Unternehmer herzlich willkommen\, die sich ebenfalls an der Gestaltung unseres Stadtlebens beteiligen möchten. \n  \nSolltet ihr den Termin nicht wahrnehmen können\, könnt ihr uns gerne im Voraus eure Termine zukommen lassen. Dann tragen wir sie in den Jahresplan mit ein.
URL:https://jakubetzstift.de/veranstaltung/vereinsstammtisch-jahresauftakt-2026/
LOCATION:Bennosaal\, Bautzener Straße 30\, Wittichenau\, Sachsen\, 02997\, Deutschland
ATTACH;FMTTYPE=image/png:https://jakubetzstift.de/wp-content/uploads/Vereinsstammtisch-Website-Background-e1768317740390.png
END:VEVENT
BEGIN:VEVENT
DTSTART;TZID=Europe/Berlin:20260130T170000
DTEND;TZID=Europe/Berlin:20260130T190000
DTSTAMP:20260423T083104
CREATED:20251007T090951Z
LAST-MODIFIED:20251129T062055Z
UID:10002161-1769792400-1769799600@jakubetzstift.de
SUMMARY:Aquarell- und Acrylmalen-Lernen für Erwachsene
DESCRIPTION:Schritt für Schritt erlernt ihr mit verschiedenen Techniken das Aquarellmalen als auch die Acrylmalerei. Die Wittichenauer Künstlerin Petra Walter führt euch in diese Kunst ein.\nDer Kurs eignet sich für Einsteiger und Fortgeschrittene. \nKurstermine immer freitags 17:00 bis 19:00 Uhr\nKosten: 2 EUR/ pro Termin \nZeichenmaterial kann selbst mitgebracht werden. Eine Grundausstattung ist vorhanden. \nBei Fragen meldet euch gerne telefonisch oder per E-Mail bei uns. \nEine vorherige Anmeldung ist nicht nötig.\nDer Kurs pausiert in den Sommermonaten und läuft von Oktober bis März.
URL:https://jakubetzstift.de/veranstaltung/aquarell-acryl-malen-kurs/2026-01-30/
LOCATION:Jakubetzstift\, Bautzener Straße 30\, Wittichenau\, Sachsen\, 02997\, Deutschland
ATTACH;FMTTYPE=image/jpeg:https://jakubetzstift.de/wp-content/uploads/es-gibt-drei-baeume-die-in-aquarell-auf-einem-weissen-hintergrund-generative-ai-gemalt-sind_958192-33714.jpg
END:VEVENT
END:VCALENDAR