BEGIN:VCALENDAR
VERSION:2.0
PRODID:-//Verein(t) für Wittichenau e.V. - ECPv6.15.20//NONSGML v1.0//EN
CALSCALE:GREGORIAN
METHOD:PUBLISH
X-ORIGINAL-URL:https://jakubetzstift.de
X-WR-CALDESC:Veranstaltungen für Verein(t) für Wittichenau e.V.
REFRESH-INTERVAL;VALUE=DURATION:PT1H
X-Robots-Tag:noindex
X-PUBLISHED-TTL:PT1H
BEGIN:VTIMEZONE
TZID:Europe/Berlin
BEGIN:DAYLIGHT
TZOFFSETFROM:+0100
TZOFFSETTO:+0200
TZNAME:CEST
DTSTART:20250330T010000
END:DAYLIGHT
BEGIN:STANDARD
TZOFFSETFROM:+0200
TZOFFSETTO:+0100
TZNAME:CET
DTSTART:20251026T010000
END:STANDARD
BEGIN:DAYLIGHT
TZOFFSETFROM:+0100
TZOFFSETTO:+0200
TZNAME:CEST
DTSTART:20260329T010000
END:DAYLIGHT
BEGIN:STANDARD
TZOFFSETFROM:+0200
TZOFFSETTO:+0100
TZNAME:CET
DTSTART:20261025T010000
END:STANDARD
BEGIN:DAYLIGHT
TZOFFSETFROM:+0100
TZOFFSETTO:+0200
TZNAME:CEST
DTSTART:20270328T010000
END:DAYLIGHT
BEGIN:STANDARD
TZOFFSETFROM:+0200
TZOFFSETTO:+0100
TZNAME:CET
DTSTART:20271031T010000
END:STANDARD
END:VTIMEZONE
BEGIN:VEVENT
DTSTART;TZID=Europe/Berlin:20260202T173000
DTEND;TZID=Europe/Berlin:20260202T203000
DTSTAMP:20260423T083507
CREATED:20250915T182259Z
LAST-MODIFIED:20250915T182259Z
UID:10002121-1770053400-1770064200@jakubetzstift.de
SUMMARY:Nähkränzel
DESCRIPTION:Das Nähkränzel lädt jeden 1. und 3. Montag im Monat zu einem gemeinsamen Nähtreffen ein. Es können eigene Nähprojekte in entspannter Runde realisiert\, Ideen und Anregungen geteilt sowie Erfahrungen rund ums Nähen ausgetauscht werden. Das Treffen richtet sich an alle\, die bereits erste Näherfahrungen mitbringen und Freude am kreativen Arbeiten in der Gemeinschaft haben. \nAlle sind herzlich eingeladen\, in kreativer Atmosphäre zu nähen und sich inspirieren zu lassen. \nBitte mitbringen: \n\nStoffe\neigene Nähutensilien und Nähkorb\n2 € Gebühr für die Raumnutzung\n\nDie eigene Nähmaschine mitzubringen ist optional; vor Ort sind Nähmaschinen vorhanden. Eine Auswahl an Web- und Jerseystoffen\, Bändern und Knöpfen steht zur Verfügung und kann gegen eine Spende genutzt werden. \nBei Fragen zum Nähkränzel gern eine E-Mail an ines.michler@jakubetzstift.de senden.
URL:https://jakubetzstift.de/veranstaltung/naehkraenzel-21/
LOCATION:Jakubetzstift\, Bautzener Straße 30\, Wittichenau\, Sachsen\, 02997\, Deutschland
ATTACH;FMTTYPE=image/jpeg:https://jakubetzstift.de/wp-content/uploads/Titel-Naehkraenzel-1-scaled.jpg
END:VEVENT
BEGIN:VEVENT
DTSTART;TZID=Europe/Berlin:20260203T193000
DTEND;TZID=Europe/Berlin:20260203T210000
DTSTAMP:20260423T083507
CREATED:20260125T193848Z
LAST-MODIFIED:20260125T193848Z
UID:10002503-1770147000-1770152400@jakubetzstift.de
SUMMARY:Programm­planungs­abend
DESCRIPTION:Wir setzen den Programmplan für das Jakubetzstift 2026 zusammen. Dabei interessiert uns\, was ihr euch für Programm in unserem Haus wünscht. Welche Idee liegt euch besonders am Herzen? Was kam euch bisher zu kurz? Was möchtet ihr an Neuem ins Jakubetzstift einbringen? Und was soll eurer Meinung nach unbedingt weitergeführt werden? \nDarüber möchten wir bei diesem Programmplanungsabend mit euch ins Gespräch kommen. Wir wollen Ideen zusammentragen\, Bewährtes weiterentwickeln und gemeinsam am neuen Programm für unser Haus stricken. Wir laden euch herzlich ein\, dabei zu sein und eure Gedanken einzubringen.
URL:https://jakubetzstift.de/veranstaltung/programmplanungsabend/
LOCATION:Jakubetzstift\, Bautzener Straße 30\, Wittichenau\, Sachsen\, 02997\, Deutschland
END:VEVENT
BEGIN:VEVENT
DTSTART;TZID=Europe/Berlin:20260205T093000
DTEND;TZID=Europe/Berlin:20260205T110000
DTSTAMP:20260423T083507
CREATED:20260113T144809Z
LAST-MODIFIED:20260401T192018Z
UID:10002543-1770283800-1770289200@jakubetzstift.de
SUMMARY:Krabbelgruppe (0-3 Jahre)
DESCRIPTION:Gemeinsam Spielen\, sich austauschen\, eine Tasse Tee oder Kaffee trinken. Für Mamas\, Papas und Großeltern mit Kindern zwischen 0-3 Jahre. Wer möchte\, kann gerne auch Fingerspiele und Verse einbringen oder gemeinsam Lieder singen. Angeleitet und Begleitet wird die Gruppe von Barbara Beckel. Wir starten immer mit einem kleinen Lied\, einer Bewegungsgeschichte oder einem Fingerspiel. Danach ist Zeit für Austausch und gemeinsames Spiel. \n  \nDie Babys und Kinder können natürlich auch schlafen. Dann kann die Zeit auch einfach zum Austausch genutzt werden. \n  \nJeden Donnerstag von 9-11 Uhr. Einfach vorbei kommen!\nMan kann während der gesamten Zeit kommen und gehen. Es ist ein offener Treff. \nFür Kaffee\, Tee und Betriebskosten steht eine Spendenbox bereit – wir freuen uns über einen kleinen Beitrag.
URL:https://jakubetzstift.de/veranstaltung/krabbelgruppe-0-3-jahre-4/2026-02-05/
LOCATION:Jakubetzstift\, Bautzener Straße 30\, Wittichenau\, Sachsen\, 02997\, Deutschland
ATTACH;FMTTYPE=image/jpeg:https://jakubetzstift.de/wp-content/uploads/Krabbelgruppe-Plakat-Titelbild-e1744032356793.jpg
END:VEVENT
BEGIN:VEVENT
DTSTART;TZID=Europe/Berlin:20260205T150000
DTEND;TZID=Europe/Berlin:20260205T173000
DTSTAMP:20260423T083507
CREATED:20251218T064330Z
LAST-MODIFIED:20260205T204757Z
UID:10002201-1770303600-1770312600@jakubetzstift.de
SUMMARY:Seniorenfasching – VERSCHOBEN
DESCRIPTION:Die Veranstaltung wurde wegen der Glätte auf Straßen und Wegen auf Freitag\, den 6. Februar 2026 verschoben. \nWir feiern Fasching. Mit Liedern und guter Unterhaltung stimmen wir uns auf die fünfte Jahreszeit ein. \nFür die Verköstigung und Raumnutzung erheben wir einen Teilnahmebeitrag von 5 EUR.\nZu dieser Veranstaltung werden Eintrittskarten verkauft. Sie sind bei Maria Kockert erhältlich. \n 
URL:https://jakubetzstift.de/veranstaltung/seniorennachmittag-13/
LOCATION:Bennosaal\, Bautzener Straße 30\, Wittichenau\, Sachsen\, 02997\, Deutschland
ATTACH;FMTTYPE=image/png:https://jakubetzstift.de/wp-content/uploads/Seniorennachmittag_Website.png
END:VEVENT
BEGIN:VEVENT
DTSTART;TZID=Europe/Berlin:20260205T170000
DTEND;TZID=Europe/Berlin:20260205T190000
DTSTAMP:20260423T083507
CREATED:20250612T114520Z
LAST-MODIFIED:20260327T221118Z
UID:10001904-1770310800-1770318000@jakubetzstift.de
SUMMARY:Bürosprechzeit im Jakubetzstift
DESCRIPTION:Wir sind für euch da: Alle 14 Tage donnerstags (gerade Kalenderwochen)\, 17:00–19:00 Uhr. \nWährend der Bürosprechzeit könnt ihr: \n\nFragen rund um Veranstaltungen und Hausnutzung klären\nRaumbuchungen und Busanmietungen anfragen\neuch für Veranstaltungen anmelden\nFragen und Anregungen loswerden\nIdeen einbringen oder ehrenamtliches Engagement besprechen\n\nKommt einfach vorbei – eine Anmeldung ist nicht erforderlich.
URL:https://jakubetzstift.de/veranstaltung/buerosprechzeit-im-jakubetzstift/2026-02-05/
LOCATION:Jakubetzstift\, Bautzener Straße 30\, Wittichenau\, Sachsen\, 02997\, Deutschland
CATEGORIES:Bürosprechzeiten
END:VEVENT
BEGIN:VEVENT
DTSTART;TZID=Europe/Berlin:20260206T150000
DTEND;TZID=Europe/Berlin:20260206T173000
DTSTAMP:20260423T083507
CREATED:20260205T204833Z
LAST-MODIFIED:20260205T204833Z
UID:10002519-1770390000-1770399000@jakubetzstift.de
SUMMARY:Seniorenfasching
DESCRIPTION:Wir feiern Fasching. Mit Liedern und guter Unterhaltung stimmen wir uns auf die fünfte Jahreszeit ein. \nFür die Verköstigung und Raumnutzung erheben wir einen Teilnahmebeitrag von 5 EUR.\nZu dieser Veranstaltung werden Eintrittskarten verkauft. Sie sind bei Maria Kockert erhältlich. \n 
URL:https://jakubetzstift.de/veranstaltung/seniorenfasching-2/
LOCATION:Bennosaal\, Bautzener Straße 30\, Wittichenau\, Sachsen\, 02997\, Deutschland
ATTACH;FMTTYPE=image/png:https://jakubetzstift.de/wp-content/uploads/Seniorennachmittag_Website.png
END:VEVENT
BEGIN:VEVENT
DTSTART;TZID=Europe/Berlin:20260206T170000
DTEND;TZID=Europe/Berlin:20260206T190000
DTSTAMP:20260423T083507
CREATED:20251007T090951Z
LAST-MODIFIED:20251129T062055Z
UID:10002162-1770397200-1770404400@jakubetzstift.de
SUMMARY:Aquarell- und Acrylmalen-Lernen für Erwachsene
DESCRIPTION:Schritt für Schritt erlernt ihr mit verschiedenen Techniken das Aquarellmalen als auch die Acrylmalerei. Die Wittichenauer Künstlerin Petra Walter führt euch in diese Kunst ein.\nDer Kurs eignet sich für Einsteiger und Fortgeschrittene. \nKurstermine immer freitags 17:00 bis 19:00 Uhr\nKosten: 2 EUR/ pro Termin \nZeichenmaterial kann selbst mitgebracht werden. Eine Grundausstattung ist vorhanden. \nBei Fragen meldet euch gerne telefonisch oder per E-Mail bei uns. \nEine vorherige Anmeldung ist nicht nötig.\nDer Kurs pausiert in den Sommermonaten und läuft von Oktober bis März.
URL:https://jakubetzstift.de/veranstaltung/aquarell-acryl-malen-kurs/2026-02-06/
LOCATION:Jakubetzstift\, Bautzener Straße 30\, Wittichenau\, Sachsen\, 02997\, Deutschland
ATTACH;FMTTYPE=image/jpeg:https://jakubetzstift.de/wp-content/uploads/es-gibt-drei-baeume-die-in-aquarell-auf-einem-weissen-hintergrund-generative-ai-gemalt-sind_958192-33714.jpg
END:VEVENT
BEGIN:VEVENT
DTSTART;TZID=Europe/Berlin:20260209T160000
DTEND;TZID=Europe/Berlin:20260209T220000
DTSTAMP:20260423T083507
CREATED:20241216T135819Z
LAST-MODIFIED:20260410T112321Z
UID:10002486-1770652800-1770674400@jakubetzstift.de
SUMMARY:Offene Werkstatt im Digitallabor
DESCRIPTION:Für Neueinsteiger und Technik-Nerds \nKomm vorbei und tüftle!\nEinmal im Monat von 16:30 – 22 Uhr gibt es im Digitallabor die offene Werkstatt. Hier kannst du unter Anleitung deine Ideen umsetzen. Es gibt einen Lasercutter\, Plotter\, zwei 3D-Drucker\, einen Vakuumformer und eine Transferpresse. Damit kannst du beispielsweise Ersatzteile drucken\, T-Shirts gestalten\, Deko basteln oder Schilder lasern. Die neuen Hightech-Werkzeuge bieten ungeahnte Möglichkeiten. \n  \nWas muss ich können? Brauche ich Vorerfahrung? \nDas Digitallabor ist offen für alle und jeden. Du brauchst keinerlei Vorerfahrung oder Kenntnisse. Komm einfach zur offenen Werkstatt vorbei. Wir versuchen dir so gut es geht bei deiner Idee zu helfen\, so dass du dein Projekt in die Tat umsetzen kannst. \nKinder können sehr gerne in Begleitung eines Erwachsenen tüfteln. \n  \nEs gibt regelmäßig Einführungskurse an allen Maschinen sowie thematische Workshops\, zu denen man sich anmelden kann. Nach Absolvieren eines Einführungskurses und mit etwas Übung\, kann man die Technik im Digitallabor während der offenen Werkstatt selbstständig nutzen. \n  \nWas kostet das alles? \nDie Nutzung des Digitallabors ist grundsätzlich kostenlos. Für Materialien die du von uns verwendest sowie für Strom und Wartung\, freuen wir uns über eine Spende. Je nachdem wie viel von unserem Material du verwendest\, kannst du mit 1-5€ pro „Projekt“ rechnen. Mehr ist natürlich immer gerne gesehen 😉 \nNatürlich kannst du auch dein eigenes Material mitbringen. Sprich uns gerne an\, wenn du Hilfe bei der Materialauswahl brauchst.
URL:https://jakubetzstift.de/veranstaltung/offene-werkstatt-im-digitallabor-2/2026-02-09/
LOCATION:Jakubetzstift\, Bautzener Straße 30\, Wittichenau\, Sachsen\, 02997\, Deutschland
CATEGORIES:Digitallabor,Offene Werkstatt
ATTACH;FMTTYPE=image/jpeg:https://jakubetzstift.de/wp-content/uploads/Offene-Werkstatt-Instagram-Post-e1724147062313.jpg
END:VEVENT
BEGIN:VEVENT
DTSTART;TZID=Europe/Berlin:20260212T093000
DTEND;TZID=Europe/Berlin:20260212T110000
DTSTAMP:20260423T083507
CREATED:20260113T144809Z
LAST-MODIFIED:20260401T192018Z
UID:10002544-1770888600-1770894000@jakubetzstift.de
SUMMARY:Krabbelgruppe (0-3 Jahre)
DESCRIPTION:Gemeinsam Spielen\, sich austauschen\, eine Tasse Tee oder Kaffee trinken. Für Mamas\, Papas und Großeltern mit Kindern zwischen 0-3 Jahre. Wer möchte\, kann gerne auch Fingerspiele und Verse einbringen oder gemeinsam Lieder singen. Angeleitet und Begleitet wird die Gruppe von Barbara Beckel. Wir starten immer mit einem kleinen Lied\, einer Bewegungsgeschichte oder einem Fingerspiel. Danach ist Zeit für Austausch und gemeinsames Spiel. \n  \nDie Babys und Kinder können natürlich auch schlafen. Dann kann die Zeit auch einfach zum Austausch genutzt werden. \n  \nJeden Donnerstag von 9-11 Uhr. Einfach vorbei kommen!\nMan kann während der gesamten Zeit kommen und gehen. Es ist ein offener Treff. \nFür Kaffee\, Tee und Betriebskosten steht eine Spendenbox bereit – wir freuen uns über einen kleinen Beitrag.
URL:https://jakubetzstift.de/veranstaltung/krabbelgruppe-0-3-jahre-4/2026-02-12/
LOCATION:Jakubetzstift\, Bautzener Straße 30\, Wittichenau\, Sachsen\, 02997\, Deutschland
ATTACH;FMTTYPE=image/jpeg:https://jakubetzstift.de/wp-content/uploads/Krabbelgruppe-Plakat-Titelbild-e1744032356793.jpg
END:VEVENT
BEGIN:VEVENT
DTSTART;TZID=Europe/Berlin:20260213T170000
DTEND;TZID=Europe/Berlin:20260213T190000
DTSTAMP:20260423T083507
CREATED:20251007T090951Z
LAST-MODIFIED:20251129T062055Z
UID:10002163-1771002000-1771009200@jakubetzstift.de
SUMMARY:Aquarell- und Acrylmalen-Lernen für Erwachsene
DESCRIPTION:Schritt für Schritt erlernt ihr mit verschiedenen Techniken das Aquarellmalen als auch die Acrylmalerei. Die Wittichenauer Künstlerin Petra Walter führt euch in diese Kunst ein.\nDer Kurs eignet sich für Einsteiger und Fortgeschrittene. \nKurstermine immer freitags 17:00 bis 19:00 Uhr\nKosten: 2 EUR/ pro Termin \nZeichenmaterial kann selbst mitgebracht werden. Eine Grundausstattung ist vorhanden. \nBei Fragen meldet euch gerne telefonisch oder per E-Mail bei uns. \nEine vorherige Anmeldung ist nicht nötig.\nDer Kurs pausiert in den Sommermonaten und läuft von Oktober bis März.
URL:https://jakubetzstift.de/veranstaltung/aquarell-acryl-malen-kurs/2026-02-13/
LOCATION:Jakubetzstift\, Bautzener Straße 30\, Wittichenau\, Sachsen\, 02997\, Deutschland
ATTACH;FMTTYPE=image/jpeg:https://jakubetzstift.de/wp-content/uploads/es-gibt-drei-baeume-die-in-aquarell-auf-einem-weissen-hintergrund-generative-ai-gemalt-sind_958192-33714.jpg
END:VEVENT
BEGIN:VEVENT
DTSTART;TZID=Europe/Berlin:20260219T093000
DTEND;TZID=Europe/Berlin:20260219T110000
DTSTAMP:20260423T083507
CREATED:20260113T144809Z
LAST-MODIFIED:20260401T192018Z
UID:10002545-1771493400-1771498800@jakubetzstift.de
SUMMARY:Krabbelgruppe (0-3 Jahre)
DESCRIPTION:Gemeinsam Spielen\, sich austauschen\, eine Tasse Tee oder Kaffee trinken. Für Mamas\, Papas und Großeltern mit Kindern zwischen 0-3 Jahre. Wer möchte\, kann gerne auch Fingerspiele und Verse einbringen oder gemeinsam Lieder singen. Angeleitet und Begleitet wird die Gruppe von Barbara Beckel. Wir starten immer mit einem kleinen Lied\, einer Bewegungsgeschichte oder einem Fingerspiel. Danach ist Zeit für Austausch und gemeinsames Spiel. \n  \nDie Babys und Kinder können natürlich auch schlafen. Dann kann die Zeit auch einfach zum Austausch genutzt werden. \n  \nJeden Donnerstag von 9-11 Uhr. Einfach vorbei kommen!\nMan kann während der gesamten Zeit kommen und gehen. Es ist ein offener Treff. \nFür Kaffee\, Tee und Betriebskosten steht eine Spendenbox bereit – wir freuen uns über einen kleinen Beitrag.
URL:https://jakubetzstift.de/veranstaltung/krabbelgruppe-0-3-jahre-4/2026-02-19/
LOCATION:Jakubetzstift\, Bautzener Straße 30\, Wittichenau\, Sachsen\, 02997\, Deutschland
ATTACH;FMTTYPE=image/jpeg:https://jakubetzstift.de/wp-content/uploads/Krabbelgruppe-Plakat-Titelbild-e1744032356793.jpg
END:VEVENT
BEGIN:VEVENT
DTSTART;TZID=Europe/Berlin:20260219T170000
DTEND;TZID=Europe/Berlin:20260219T190000
DTSTAMP:20260423T083507
CREATED:20250612T114520Z
LAST-MODIFIED:20260327T221118Z
UID:10001905-1771520400-1771527600@jakubetzstift.de
SUMMARY:Bürosprechzeit im Jakubetzstift
DESCRIPTION:Wir sind für euch da: Alle 14 Tage donnerstags (gerade Kalenderwochen)\, 17:00–19:00 Uhr. \nWährend der Bürosprechzeit könnt ihr: \n\nFragen rund um Veranstaltungen und Hausnutzung klären\nRaumbuchungen und Busanmietungen anfragen\neuch für Veranstaltungen anmelden\nFragen und Anregungen loswerden\nIdeen einbringen oder ehrenamtliches Engagement besprechen\n\nKommt einfach vorbei – eine Anmeldung ist nicht erforderlich.
URL:https://jakubetzstift.de/veranstaltung/buerosprechzeit-im-jakubetzstift/2026-02-19/
LOCATION:Jakubetzstift\, Bautzener Straße 30\, Wittichenau\, Sachsen\, 02997\, Deutschland
CATEGORIES:Bürosprechzeiten
END:VEVENT
BEGIN:VEVENT
DTSTART;TZID=Europe/Berlin:20260220T170000
DTEND;TZID=Europe/Berlin:20260220T190000
DTSTAMP:20260423T083507
CREATED:20251007T090951Z
LAST-MODIFIED:20251129T062055Z
UID:10002164-1771606800-1771614000@jakubetzstift.de
SUMMARY:Aquarell- und Acrylmalen-Lernen für Erwachsene
DESCRIPTION:Schritt für Schritt erlernt ihr mit verschiedenen Techniken das Aquarellmalen als auch die Acrylmalerei. Die Wittichenauer Künstlerin Petra Walter führt euch in diese Kunst ein.\nDer Kurs eignet sich für Einsteiger und Fortgeschrittene. \nKurstermine immer freitags 17:00 bis 19:00 Uhr\nKosten: 2 EUR/ pro Termin \nZeichenmaterial kann selbst mitgebracht werden. Eine Grundausstattung ist vorhanden. \nBei Fragen meldet euch gerne telefonisch oder per E-Mail bei uns. \nEine vorherige Anmeldung ist nicht nötig.\nDer Kurs pausiert in den Sommermonaten und läuft von Oktober bis März.
URL:https://jakubetzstift.de/veranstaltung/aquarell-acryl-malen-kurs/2026-02-20/
LOCATION:Jakubetzstift\, Bautzener Straße 30\, Wittichenau\, Sachsen\, 02997\, Deutschland
ATTACH;FMTTYPE=image/jpeg:https://jakubetzstift.de/wp-content/uploads/es-gibt-drei-baeume-die-in-aquarell-auf-einem-weissen-hintergrund-generative-ai-gemalt-sind_958192-33714.jpg
END:VEVENT
BEGIN:VEVENT
DTSTART;TZID=Europe/Berlin:20260220T190000
DTEND;TZID=Europe/Berlin:20260220T210000
DTSTAMP:20260423T083507
CREATED:20260201T194250Z
LAST-MODIFIED:20260216T120617Z
UID:10002511-1771614000-1771621200@jakubetzstift.de
SUMMARY:Ersatzteile und Gadgets selbst drucken – 3D-Druck für Einsteiger
DESCRIPTION:Entdecke\, wie einfach 3D-Druck sein kann. In diesem Kurs druckst du deine ersten eigenen Ersatzteile\, coole Gadgets und praktische Erweiterungen – ganz ohne Vorkenntnisse. Du lernst\, fertige Modelle aus Online‑Bibliotheken zu finden und für deinen Drucker vorzubereiten. Wir zeigen dir\, worauf es beim Material\, bei den Einstellungen und beim Druck selbst ankommt. Du wirst staunen\, wie vielseitig 3D-Druck ist und wie schnell du eigene Lösungen herstellen kannst. \nMach mit und druck dir deine Welt ein Stück einfacher! \n  \n  \nFalls du schon vorher wissen willst\, wie es geht: Schau dir unser Video-Tutorial an. \n Hier geht’s zum Video. \n  \nWo und Wann? \nEinmal im Monat kannst du an unseren Geräten im Digitallabor einen Einführungskurs mitmachen.\nEs gibt aktuell Kurse am Lasercutter\, Plotter\, 3D-Drucker und Transferpresse. Damit kannst du beispielsweise Ersatzteile drucken\, T-Shirts gestalten\, Deko basteln oder Schilder lasern. Die neuen Hightech-Werkzeuge bieten ungeahnte Möglichkeiten. \nEine Übersicht der Termine findest du hier. \nWozu machen wir diese Einsteigerkurse? \nNach Absolvieren eines Einstiegskurses und mit etwas Übung\, kann man die Technik im Digitallabor während der offenen Werkstatt selbstständig nutzen oder auch eigene Angebote für andere machen. \nIch will mehr! \nWir bieten zusätzlich immer wieder thematische Workshops an\, zu denen man sich ebenfalls anmelden kann. Sei gerne mit dabei und erweitere deine Fähigkeiten. \nWas kostet das alles? \nFür die genutzten Materialien\, die Betriebskosten und weitere Aufwendungen fällt ein kleiner Beitrag an.\nDer überwiegende Teil der Kosten wird über Fördergelder gedeckt. Daher sind Spenden jederzeit herzlich willkommen. \n 
URL:https://jakubetzstift.de/veranstaltung/ersatzteile-selbst-drucken-3d-druck-fuer-einsteiger/
LOCATION:Jakubetzstift\, Bautzener Straße 30\, Wittichenau\, Sachsen\, 02997\, Deutschland
CATEGORIES:Digitallabor,Einführungskurse
END:VEVENT
BEGIN:VEVENT
DTSTART;TZID=Europe/Berlin:20260223T170000
DTEND;TZID=Europe/Berlin:20260223T183000
DTSTAMP:20260423T083507
CREATED:20251130T183948Z
LAST-MODIFIED:20251130T194157Z
UID:10002180-1771866000-1771871400@jakubetzstift.de
SUMMARY:Fit Digital: Ordnung auf dem Smartphone
DESCRIPTION:Heute bei Fit Digital: \nIn diesem Angebot lernst du\, wie du dein Smartphone wieder übersichtlich und schneller machen kannst. Wir zeigen dir\, wie du unnötige Dateien löschst\, wie du deine Fotos sicher abspeicherst und wie du den Zwischenspeicher (Cache) leerst. Schritt für Schritt räumen wir gemeinsam auf\, damit dein Handy wieder besser läuft und du alles leichter findest. \nHier geht’s zu allen Terminen & Themen bei Fit Digital \n  \nUnsere Fit-Digital-Reihe: \nDie Fit-Digital-Kurse machen euch fit im souveränen Umgang mit eurem Smartphone oder Tablet und mit digitalen Werkzeugen. Für Einsteiger und Fortgeschrittene wird Wissen rund um grundlegende Technologien\, Apps und sichere Mediennutzung vermittelt. Natürlich ist auch immer Zeit für individuelle Fragen und aktives Ausprobieren. \n  \nEine Veranstaltung in Kooperation mit dem Mediennetzwerk Lausitz\nBringt gern euer eigenes Endgerät mit.
URL:https://jakubetzstift.de/veranstaltung/fit-digital-ordnung-auf-dem-smartphone/
LOCATION:Jakubetzstift\, Bautzener Straße 30\, Wittichenau\, Sachsen\, 02997\, Deutschland
CATEGORIES:Digitallabor,Fit Digital
ATTACH;FMTTYPE=image/jpeg:https://jakubetzstift.de/wp-content/uploads/Hands-using-mobile-apps-in-phones-scaled.jpg
END:VEVENT
BEGIN:VEVENT
DTSTART;TZID=Europe/Berlin:20260224T173000
DTEND;TZID=Europe/Berlin:20260224T193000
DTSTAMP:20260423T083507
CREATED:20260124T193823Z
LAST-MODIFIED:20260124T193823Z
UID:10002492-1771954200-1771961400@jakubetzstift.de
SUMMARY:T-Shirts\, Taschen und Federmäppchen gestalten (Plotterkurs für alle Level geeignet)
DESCRIPTION:Texte und Grafiken mühsam per Hand ausschneiden? Das kann der Schneidplotter für dich übernehmen!\nIn diesem Kurs gestalten wir kleine Federmappen\, Taschen und andere Textilien mit Textilfolien. \nBitte bring dein eigenes T-Shirt mit\, wenn du eins gestalten möchtest. Wähle deine Lieblingsfarbe 😉 \n  \nFür Anfänger und Fortgeschrittene geeignet. Kinder\, Jugendliche und Erwachsene jeden Alters sind herzlich willkommen. Kinder unter 12 Jahre in Begleitung eines Erwachsenen. \nTeilnehmerbeitrag: 5€ in bar mitbringen \nZur Vorbereitung gibt es ein Video-Tutorial\, das du dir im Vorfeld des Kurses ansehen kannst. Hier geht’s zum Video. \n  \nInfos zu den Kosten \nDas Digitallabor gibt es nun dank engagierter Ehrenamtlicher. Thematische Workshops und Kurse kosten einen Teilnehmerbeitrag für Material und Aufwand. Spenden sind jederzeit herzlich willkommen. \nIch will mehr! \nWir bieten immer wieder thematische Workshops an\, zu denen man sich anmelden kann. Sei gerne mit dabei und erweitere deine Fähigkeiten. Ansonsten komm gerne in der offenen Werkstatt vorbei – immer Anfang des Monats. \n 
URL:https://jakubetzstift.de/veranstaltung/t-shirts-taschen-und-federmaeppchen-gestalten-plotterkurs-fuer-alle-level-geeignet/
LOCATION:Jakubetzstift\, Bautzener Straße 30\, Wittichenau\, Sachsen\, 02997\, Deutschland
CATEGORIES:Digitallabor,Einführungskurse
ATTACH;FMTTYPE=image/jpeg:https://jakubetzstift.de/wp-content/uploads/Plotter-Maeppchen.jpg
END:VEVENT
BEGIN:VEVENT
DTSTART;TZID=Europe/Berlin:20260224T193000
DTEND;TZID=Europe/Berlin:20260224T203000
DTSTAMP:20260423T083507
CREATED:20250922T183334Z
LAST-MODIFIED:20260113T205402Z
UID:10002127-1771961400-1771965000@jakubetzstift.de
SUMMARY:Start "Lebe leichter"-Kurs
DESCRIPTION:Lebe Leichter – genial normal zum Wunschgewicht \nDu möchtest abnehmen – ohne Diäten\, ohne Kalorienzählen\, ohne Shakes? \nDann ist „Lebe leichter“ genau dein Kurs: alltagstauglich\, nachhaltig und nicht nur auf die Waage fixiert. \nIn zwölf Wochen lernst du\, \n\ndich mit drei Mahlzeiten am Tag satt und zufrieden zu essen\,\ngute Gewohnheiten aufzubauen\, die langfristig tragen\,\nbis zu 7 Kilo zu verlieren – ganz ohne Jojo-Effekt.\n\nWas dich erwartet: \n\n🗓 1x pro Woche Gruppentreffen (dienstags\, 19:30–20:30 Uhr)\n📘 Kursbuch & 12-Wochen-Planer\n📧 Wöchentliche Motivation per E-Mail\n💬 Austausch\, Motivation & echte Veränderung in Gemeinschaft\n\nKeine Diät – sondern ein ganzheitlicher Weg\, der Körper\, Seele und Alltag mitnimmt.\nDu brauchst keine Extra-Produkte – nur die Bereitschaft\, nicht nur dein Essen\, sondern deine Gewohnheiten zu verändern.\nDeine Coach: Madlen Christoph – eine der drei zertifizierten „Lebe-leichter“-Coaches in Sachsen – begleitet dich mit Herz\, Erfahrung und Freude durch den Kurs. \n👉 Mehr Infos zum Konzept: lebe-leichter.com \n📩 Anmeldung: Madlen.christoph@web.de | 📞 0157 747 176 42 | Anmeldeschluss: 22.2. \n💰 Kosten: 150 Euro Kursgebühren\, 30 Euro für Kursbuch und Arbeitsmaterial \n📆 Termine: ab 24.02.2026 bis vor Pfingsten\, 12 verbindliche Termine \n  \nFoto: Bild von rawpixel.com auf Freepik
URL:https://jakubetzstift.de/veranstaltung/start-lebe-leichter-kurs/
LOCATION:Jakubetzstift\, Bautzener Straße 30\, Wittichenau\, Sachsen\, 02997\, Deutschland
ATTACH;FMTTYPE=image/jpeg:https://jakubetzstift.de/wp-content/uploads/Waage.jpg
END:VEVENT
BEGIN:VEVENT
DTSTART;TZID=Europe/Berlin:20260226T093000
DTEND;TZID=Europe/Berlin:20260226T110000
DTSTAMP:20260423T083507
CREATED:20260113T144809Z
LAST-MODIFIED:20260401T192018Z
UID:10002546-1772098200-1772103600@jakubetzstift.de
SUMMARY:Krabbelgruppe (0-3 Jahre)
DESCRIPTION:Gemeinsam Spielen\, sich austauschen\, eine Tasse Tee oder Kaffee trinken. Für Mamas\, Papas und Großeltern mit Kindern zwischen 0-3 Jahre. Wer möchte\, kann gerne auch Fingerspiele und Verse einbringen oder gemeinsam Lieder singen. Angeleitet und Begleitet wird die Gruppe von Barbara Beckel. Wir starten immer mit einem kleinen Lied\, einer Bewegungsgeschichte oder einem Fingerspiel. Danach ist Zeit für Austausch und gemeinsames Spiel. \n  \nDie Babys und Kinder können natürlich auch schlafen. Dann kann die Zeit auch einfach zum Austausch genutzt werden. \n  \nJeden Donnerstag von 9-11 Uhr. Einfach vorbei kommen!\nMan kann während der gesamten Zeit kommen und gehen. Es ist ein offener Treff. \nFür Kaffee\, Tee und Betriebskosten steht eine Spendenbox bereit – wir freuen uns über einen kleinen Beitrag.
URL:https://jakubetzstift.de/veranstaltung/krabbelgruppe-0-3-jahre-4/2026-02-26/
LOCATION:Jakubetzstift\, Bautzener Straße 30\, Wittichenau\, Sachsen\, 02997\, Deutschland
ATTACH;FMTTYPE=image/jpeg:https://jakubetzstift.de/wp-content/uploads/Krabbelgruppe-Plakat-Titelbild-e1744032356793.jpg
END:VEVENT
BEGIN:VEVENT
DTSTART;TZID=Europe/Berlin:20260227T170000
DTEND;TZID=Europe/Berlin:20260227T190000
DTSTAMP:20260423T083507
CREATED:20251007T090951Z
LAST-MODIFIED:20251129T062055Z
UID:10002165-1772211600-1772218800@jakubetzstift.de
SUMMARY:Aquarell- und Acrylmalen-Lernen für Erwachsene
DESCRIPTION:Schritt für Schritt erlernt ihr mit verschiedenen Techniken das Aquarellmalen als auch die Acrylmalerei. Die Wittichenauer Künstlerin Petra Walter führt euch in diese Kunst ein.\nDer Kurs eignet sich für Einsteiger und Fortgeschrittene. \nKurstermine immer freitags 17:00 bis 19:00 Uhr\nKosten: 2 EUR/ pro Termin \nZeichenmaterial kann selbst mitgebracht werden. Eine Grundausstattung ist vorhanden. \nBei Fragen meldet euch gerne telefonisch oder per E-Mail bei uns. \nEine vorherige Anmeldung ist nicht nötig.\nDer Kurs pausiert in den Sommermonaten und läuft von Oktober bis März.
URL:https://jakubetzstift.de/veranstaltung/aquarell-acryl-malen-kurs/2026-02-27/
LOCATION:Jakubetzstift\, Bautzener Straße 30\, Wittichenau\, Sachsen\, 02997\, Deutschland
ATTACH;FMTTYPE=image/jpeg:https://jakubetzstift.de/wp-content/uploads/es-gibt-drei-baeume-die-in-aquarell-auf-einem-weissen-hintergrund-generative-ai-gemalt-sind_958192-33714.jpg
END:VEVENT
BEGIN:VEVENT
DTSTART;TZID=Europe/Berlin:20260228T090000
DTEND;TZID=Europe/Berlin:20260228T130000
DTSTAMP:20260423T083507
CREATED:20260104T100408Z
LAST-MODIFIED:20260104T100408Z
UID:10002206-1772269200-1772283600@jakubetzstift.de
SUMMARY:Kochkurs für Kinder
DESCRIPTION:Der Kinderkochkurs lädt Kinder ein\, zusammen regionale und saisonale Gerichte zu entdecken und am Ende natürlich gemeinsam zu essen. Vorerfahrungen in der Küche sind dabei nicht notwendig. \n\nGruppengröße: 15 Kinder\n\nBitte mitbringen:\n\neine A4-Mappe für die Rezepte\nfalls vorhanden: eine Kochschürze\nTeilnahmegebühr\n\n\n\nLeitung Kochkurs:\n \nSaskia Schimann & Luzia Schlenstedt (Verein(t) für Wittichenau e.V.) \nAnmeldung:\n \nper Mail an: \n\nsaskia.schimann@gmx.net\noder WhatsApp/SMS an 01577 9794885\n\nBitte gebt bei Anmeldung eine Kontaktnummer an\, damit wir im Notfall anrufen können\, falls ein Kind zum Kurs nicht erscheint. \nMit der Anmeldung erlauben die Erziehungsberechtigten\, dass Fotos beim Kochkurs gemacht werden dürfen – falls dies nicht der Fall ist\, geben sie bitte den Leitenden beim Kochkurs kurz Bescheid\, dass keine Fotos erwünscht sind.
URL:https://jakubetzstift.de/veranstaltung/kochkurs-fuer-kinder-25/
LOCATION:Jakubetzstift\, Bautzener Straße 30\, Wittichenau\, Sachsen\, 02997\, Deutschland
CATEGORIES:Kochkurs für Kinder
ATTACH;FMTTYPE=image/jpeg:https://jakubetzstift.de/wp-content/uploads/Kochkurs.jpg
END:VEVENT
END:VCALENDAR