BEGIN:VCALENDAR
VERSION:2.0
PRODID:-//Verein(t) für Wittichenau e.V. - ECPv6.15.20//NONSGML v1.0//EN
CALSCALE:GREGORIAN
METHOD:PUBLISH
X-ORIGINAL-URL:https://jakubetzstift.de
X-WR-CALDESC:Veranstaltungen für Verein(t) für Wittichenau e.V.
REFRESH-INTERVAL;VALUE=DURATION:PT1H
X-Robots-Tag:noindex
X-PUBLISHED-TTL:PT1H
BEGIN:VTIMEZONE
TZID:Europe/Berlin
BEGIN:DAYLIGHT
TZOFFSETFROM:+0100
TZOFFSETTO:+0200
TZNAME:CEST
DTSTART:20250330T010000
END:DAYLIGHT
BEGIN:STANDARD
TZOFFSETFROM:+0200
TZOFFSETTO:+0100
TZNAME:CET
DTSTART:20251026T010000
END:STANDARD
BEGIN:DAYLIGHT
TZOFFSETFROM:+0100
TZOFFSETTO:+0200
TZNAME:CEST
DTSTART:20260329T010000
END:DAYLIGHT
BEGIN:STANDARD
TZOFFSETFROM:+0200
TZOFFSETTO:+0100
TZNAME:CET
DTSTART:20261025T010000
END:STANDARD
BEGIN:DAYLIGHT
TZOFFSETFROM:+0100
TZOFFSETTO:+0200
TZNAME:CEST
DTSTART:20270328T010000
END:DAYLIGHT
BEGIN:STANDARD
TZOFFSETFROM:+0200
TZOFFSETTO:+0100
TZNAME:CET
DTSTART:20271031T010000
END:STANDARD
END:VTIMEZONE
BEGIN:VEVENT
DTSTART;TZID=Europe/Berlin:20260427T190000
DTEND;TZID=Europe/Berlin:20260427T210000
DTSTAMP:20260423T045659
CREATED:20251207T170209Z
LAST-MODIFIED:20260422T035413Z
UID:10002197-1777316400-1777323600@jakubetzstift.de
SUMMARY:Vortrag: Der öffentliche Dienst im Fadenkreuz
DESCRIPTION:Wie Demokratiefeinde Justiz\, Polizei\, Schule und Verwaltung unterwandern \nVortrag und Diskussion mit Prof. Dr. Tom Thieme oder Prof. Dr. Tom Mannewitz \nDer Vortrag beleuchtet die Strategien von Extremisten\, wie sie staatliche Institutionen kapern und ihrer Handlungsfähigkeit berauben. Sie tun dies\, indem sie Amtsträger manipulieren und zum Widerstand aufrufen; indem sie den Staat sabotieren und ihn lahmlegen wollen; indem sie Institutionen mit Gefolgsleuten unterwandern und indem sie Waffen\, Knowhow und Informationen entwenden. Das alles geschieht nicht zufällig\, sondern folgt detaillierten Plänen\, Staat und Demokratie von innen anzugreifen. Die Referenten geben einen Einblick\, warum und wie die Machtzentren unserer politischen Ordnung ins Fadenkreuz von Rechtsextremisten\, aber auch von anderen Demokratiefeinden geraten sind.  Sie zeigen Beispiele\, wie diese Infiltration vonstattengeht\, und diskutieren\, mit welchen Mitteln Staat und Gesellschaft der rechtsextremen Unterwanderung entgegentreten können. \nUnsere Referenten sind entweder Prof. Dr. Tom Thieme oder Prof. Dr. Tom Mannewitz. \nTom Thieme ist Politikwissenschaftler seit 2017 Professor für Gesellschaftspolitische Bildung an der Hochschule der Sächsischen Polizei (FH). Er arbeitet seit fast zwei Jahrzehnten zu den Themen Rechtsextremismus\, Linksextremismus und Islamismus in Deutschland und Europa. \nTom Mannewitz ist Politikwissenschaftler und seit 2021 Professor für die Lehrgebiete Politischer Extremismus und politische Ideengeschichte an der Hochschule des Bundes in Berlin. In seiner Forschung beschäftigt er sich mit Fragen des politischen Links- und Rechtsextremismus in Deutschland. \nEine Veranstaltung mit der Volkshochschule Hoyerswerda und der Landeszentrale für politische Bildung \nVortrag und Diskussion finden in der Kreuzkirche neben dem Jakubetzstift statt.
URL:https://jakubetzstift.de/veranstaltung/oeffentlicher-dienst-fadenkreuz/
LOCATION:Kreuzkirche
ATTACH;FMTTYPE=image/jpeg:https://jakubetzstift.de/wp-content/uploads/2501_Fadenkreuz.jpg
END:VEVENT
END:VCALENDAR